Workbook
Name \0: #REF!
Name \0: #REF!
Name \BD: #REF!
Name \BD: #REF!
Name \BJ: #REF!
Name \BJ: #REF!
Name \BP: #REF!
Name \BP: #REF!
Name \c: [1]BDATOS!#REF!
Name \c: [1]BDATOS!#REF!
Name \CA: #REF!
Name \CA: #REF!
Name \i: #REF!
Name \i: #REF!
Name \m: #REF!
Name \m: #REF!
Name _296: '[3]384-Acciones Corporacion'!#REF!
Name _296: '[3]384-Acciones Corporacion'!#REF!
Name _304: '[3]384-Acciones Corporacion'!#REF!
Name _304: '[3]384-Acciones Corporacion'!#REF!
Name _312: '[3]384-Acciones Corporacion'!#REF!
Name _312: '[3]384-Acciones Corporacion'!#REF!
Name _320: '[3]384-Acciones Corporacion'!#REF!
Name _320: '[3]384-Acciones Corporacion'!#REF!
Name _336: '[3]384-Acciones Corporacion'!#REF!
Name _336: '[3]384-Acciones Corporacion'!#REF!
Name _344: '[3]384-Acciones Corporacion'!#REF!
Name _344: '[3]384-Acciones Corporacion'!#REF!
Name _352: '[3]384-Acciones Corporacion'!#REF!
Name _352: '[3]384-Acciones Corporacion'!#REF!
Name _522: '[3]384-Acciones Corporacion'!#REF!
Name _522: '[3]384-Acciones Corporacion'!#REF!
Name _530: '[3]384-Acciones Corporacion'!#REF!
Name _530: '[3]384-Acciones Corporacion'!#REF!
Name _546: '[3]384-Acciones Corporacion'!#REF!
Name _546: '[3]384-Acciones Corporacion'!#REF!
Name _554: '[3]384-Acciones Corporacion'!#REF!
Name _554: '[3]384-Acciones Corporacion'!#REF!
Name _562: '[3]384-Acciones Corporacion'!#REF!
Name _562: '[3]384-Acciones Corporacion'!#REF!
Name A: [5]oficial!$A$1:$H$160
Name A_IMPRESIÓN_IM: #REF!
Name A_IMPRESIÓN_IM: #REF!
Name A205_: #REF!
Name A205_: #REF!
Name A242_: #REF!
Name A242_: #REF!
Name A255_: #REF!
Name A255_: #REF!
Name A498_: #REF!
Name A498_: #REF!
Name A534_: #N/A
Name A598_: #REF!
Name A598_: #REF!
Name A641_: #REF!
Name A641_: #REF!
Name A68_: #REF!
Name A68_: #REF!
Name A784_: #REF!
Name A784_: #REF!

Sheet Instructivo
A2: =+A2:H15E15A2:H13A2:H19E15A2:H13A2:H26E15A2:H13A2A2:H35 -> #NAME? | B2: EVALUACIÓN INDEPENDIENTE SISTEMA DE CONTROL INTERNO (instrucciones para su diligenciamiento)
B6: Teniendo en cuenta que con la expedición del Decreto 1499 de 2017 “Por medio del cual se modifica el Decreto 1083 de 2015, Decreto Único Reglamentario del Sector Función Pública, en lo relacionado con el Sistema de Gestión establecido en el artículo 133 de la Ley 1753 de 2015”, se crea un solo Sistema de Gestión y se alinea con el Sistema de Control Interno, hoy todas las entidades públicas requieren actualizar y/o implementar el Modelo Integrado de Planeación y Gestión MIPG, modelo que incorpora el Modelo Estándar de Control Interno MECI a través de la 7a dimensión del mismo. Esta estructura requiere de un análisis articulado frente al desarrollo de las políticas de gestión y desempeño contenidas en el modelo y su efectividad en relación con la estructura de control, este útlimo, aspecto esecial para garantizar el buen manejo de los recursos, que las metas y objetivos se cumplan y se mejore la prestación del servicio a los usuarios, ejes fundamentales para la generación de valor público. Teniendo en cuenta lo anterior y dada la necesidad de dar cumplimiento a la dispuesto en el articulo 156 del Decreto 2106 de 2019, el presente formato busca que las entidades cuenten con una herramienta para evaluar sus Sistemas de Control Interno de manera integral y permitirle al Jefe de Control Interno o quien haga sus veces llevar a cabo el informe de evaluación independiente sobre el mismo para su publicación cada seis (6) meses, en el sitio web de la entidad.
B8: Orientaciones Generales
B9: El archivo contiene las siguientes hojas: - Pestañas por cada uno de los componentes de control interno: "Ambiente de Control", "Evaluación de riesgos", "Actividades de control", "Información y Comunicación", y " Actividades de Monitoreo". las cuales cuentan todas con la siguiente estructura:
C12: Columna | E12: Descripción
C13: Lineamiento X: | E13: Esta columna define los lineamientos generales para cada uno de los componentes del MECI y se asocian los temas específicos que se deben analizar en cada uno.
C14: DIMENSIÓN O POLÍTICA DEL MIPG ASOCIADA AL REQUERIMIENTO | E14: En esta columna se deben asociar la (las) dimensión (es), así como la (s) política (s) de gestión y desempeño que permiten el desarrollo del tema en la entidad, en el marco del Modelo Integrado de Planeación y Gestión MIPG.
C15: Evaluación "si se encuentra Presente" Referencia a Procesos, Manuales/Políticas de Operación/Procedimientos/Instructivos u otros desarrollos que den cuente de su aplicación | E15: Indicar el nombre del proceso, manual, política de operación, procedimiento o instructivo en donde se encuentra documentado y su fuente de consulta. De acuerdo con lo identificado como resultado de la evaluación del requerimiento, seleccione de la lista desplegable 1, 2 o 3 de acuerdo con las siguientes definiciones: 1 - No existen actividades diseñadas para cubrir el requerimiento. 2 - Existen actividades diseñadas o en proceso de diseño, pero éstas no se encuentran documentadas en las políticas/procedimientos u otras herramientas 3 - Las actividades se encuentran diseñadas, documentadas y socializadas de acuerdo con el requerimiento. Nota: Entiendase "diseñada" como aquella actividad que cuenta con un responsable(s), periodicidad (cada cuanto se realiza ), proposito (objetivo), Como se lleva a cabo (procedimiento), qué pasa con las desviaciones y/o excepciones (producto de su ejecucion) y cuenta con evidencia (documentacion).
C16: EVIDENCIA DEL CONTROL | D16: No. | E16: Relaciona el consecutivo de las evidencias que se identifican en relación con la efectividad del control.
D17: Referencia a Análisis y verificaciones en el marco del Comité Institucional de Coordinación de Control Interno | E17: Indicar las acciones que se han adelantado para evaluar el estado del Sistema de Control Interno en el marco del Comité Institucional de Coordinación de Control Interno. Acciones entendidas a las modificaciones, actualizaciones y actividades de fortalecimiento del sistema a partir de la normatividad vigente.
D18: Observaciones de la evaluacion independiente (tener encuenta papel de líneas de defensa) | E18: Indicar las acciones que se han adelantado en el marco de la evaluaciòn independiente (auditoria interna), sobre el estado del Sistema de Control Interno . Acciones entendidas en la evaluación y monitoreo de la efectividad del control, incluyendo el seguimiento a los controles de la primera y segunda linea de defensa.
C19: Evaluación "si se encuentra Funcionando" | E19: Seleccionar de la lista desplegable 1, 2 o 3 de acuerdo con los siguientes criterios y basado en los resultados reportados por la Oficina de Control Interno así: 1 - El control no opera como está diseñado o bien no está presente (no se ha implementado) 2 - El control opera como está diseñado pero con algunas falencias 3- El control opera como está diseñado y es efectivo frente al cumplimiento de los objetivos y para evitar la materialización del riesgo.
B21: - Análisis de Resultados: Esta hoja permite establecer si el Sistema de Control Interno evaluado se encuentra PRESENTE y FUNCIONANDO, permitiéndo definir puntos de mejora a través de los componentes del MECI y su articulacion con las Dimensiones del MIPG.
C23: Clasificación | D23: Descripción | F23: Observaciones del Control
C24: Mantenimiento del Control | D24: Cuando en el análisis de los requerimientos en los diferentes componentes del MECI se cuente con aspectos evaluados en nivel 3 (presente) y 3 (funcionando). | F24: Se encuentra presente y funciona correctamente, por lo tanto se requiere acciones o actividades dirigidas a su mantenimiento dentro del marco de las lineas de defensa.
C25: Oportunidad de Mejora | D25: Cuando en el análisis de los requerimientos en los diferentes componentes del MECI se cuente con aspectos evaluados en nivel 2 (presente) y 3 (funcionando). | F25: Se encuentra presente y funcionando, pero requiere mejoras frente a su diseño, ya que opera de manera efectiva
C26: Deficiencia de Control (Diseño o Ejecución) | D26: Cuando en el análisis de los requerimientos en los diferentes componentes del MECI se cuente con aspectos evaluados en nivel 2 (presente) y 2 (funcionando); 3 (presente) y 1 (funcionando); 3 (presente) y 2 (funcionando); 2 (presente) y 1 (funcionando) | F26: Se encuentra presente y funcionando, pero requiere acciones dirigidas a fortalecer o mejorar su diseño y/o ejecucion.
C27: Deficiencia de Control Mayor (Diseño y Ejecución) | D27: Cuando en el análisis de los requerimientos en los diferentes componentes del MECI se cuente con aspectos evaluados en nivel 1 (presente) y 1 (funcionando);1 (presente) y 2 (funcionando); 1(presente) y 3 (funcionando). | F27: No se encuentra presente por lo tanto no esta funcionando, lo que hace que se requieran acciones dirigidas a fortalecer su diseño y puesta en marcha
B30: - Conclusiones: Esta hoja permite establecer si el Sistema de Control Interno evaluado se encuentra PRESENTE y FUNCIONANDO, definiendo puntos de mejora a través de los componentes del MECI y su relación con las Dimensiones del MIPG.
B32: - Definiciones: Algunos términos asociados a con control interno y utilizados en diferentes partes del formato.

Sheet Definiciones
B2: Términos y Definiciones
B4: Término | C4: Descripción
B5: Actividad de control | C5: Acciones establecidas en los procesos, políticas, procedimientos u otras herramientas que permiten que se lleven a cabo las instrucciones de la Administración para mitigar los riesgos relacionados con el logro de los objetivos. Las Actividades de Control son un Componente del Control Interno.
B6: Alta Dirección | C6: Comprende los empleos del Nivel Directivo a los cuales corresponden funciones de dirección general, de formulación de políticas institucionales y de adopción de planes, programas y proyectos. (Decreto 770 de 2005)
B7: Ambiente de control | C7: El ambiente de control establece el tono de una organización. Es la base de los otros componentes del control interno pues define los valores y principios con los cuales se rige la entidad e influye en la conciencia de los servidores sobre la forma en que se deben llevar a cabo las operaciones.
B8: Comité Institucional de Coordinación de Control Interno | C8: Instancia del más alto nivel jerárquico, creado como órgano asesor e instancia decisora en los asuntos de control interno, de oblgatoria conformación para todas las entidades estatales. (Ley 87 de 1993, art 13 y Decreto 648 de 2017).
B9: Comité Institucional de Gestión y Desempeño | C9: Instancia del más alto nivel jerárquico, encargado de orientar la implementación y operación del Modelo Integrado de Planeación y Gestión MIPG, de oblgatoria conformación para todas las entidades estatales. (Decreto 1499 de 2017).
B10: Componente | C10: Uno de los cinco elementos del Modelo Estándar de Control Interno MECI.
B11: Conflicto de interés | C11: Situación en la cual un auditor interno, que ocupa un puesto de confianza, tiene interés personal o profesional en competencia con otros intereses. Tales intereses pueden hacerle difícil el cumplimiento imparcial de sus tareas. (Tomado de las Normas Internacionales de Auditoría Interna Norma 1120) En el sector público el conflicto de interés existe cuando el interés personal de quien ejerce una función pública colisiona con los deberes y obligaciones del cargo que desempeña. (Guía Conflictos de Interés de Servidores Públicos. Función Pública. 2018).
B12: Control Interno | C12: Estructura de procesos, políticas, procedimientos, manuales y otras herramientas diseñadas por la entidad para proporcionar seguridad razonable de que los objetivos y metas se alcanzarán y que los eventos no deseados se evitaran o bien se detectaran y corregirán.
B13: Control interno efectivo | C13: El Sistema de Control Interno para que sea efectivo requiere que cada uno de los cinco componentes del MECI y sus lineamientos, estén presentes, funcionando y operando de manera articulada con el MIPG.
B14: Controles generales de TI | C14: Actividades de control que ayudan a asegurar la apropiada operación de la tecnología, incluyen los controles sobre la infraestructura de tecnología, seguridad de la información, adquisición de tecnología su desarrollo y mantenimiento.
B15: Corrupción | C15: Posibilidad de que por acción u omisión, se use el poder para desviar la gestión de lo público hacia un beneficio privado. (Secretaría de Transparencia)
... B39: Lineas de Defensa | C39: Esquema de asignación de responsabilidades, adaptada del Modelo de las 3 Líneas de Defensa” del Instituto de Auditores, el cual proporciona una manera simple y efectiva para mejorar las comunicaciones en la gestión de riesgos y control mediante la aclaración de las funciones y deberes esenciales relacionados, que permiten contar con diferentes niveles para el control.

Sheet Ambiente de Control
C18: AMBIENTE DE CONTROL
C19: La entidad debe asegurar un ambiente de control que le permita disponer de las condiciones mínimas para el ejercicio del control interno. Esto se logra con el compromiso, liderazgo y los lineamientos de la alta dirección y del Comité Institucional de Coordinación de Control Interno. El Ambiente de Control es el fundamento de todos los demás componentes del control interno, se incluyen la integridad y valores éticos, la competencia (capacidad) de los servidores de la entidad; la manera en que la Alta Dirección asigna autoridad y responsabilidad, así como también el direccionamiento estratégico definido.
B21: ID | C21: Lineamiento 1: La entidad demuestra el compromiso con la integridad (valores) y principio+I186+C21:I31+I186+C21:I31+C21:I31+C21:I31 | D21: Explicación de cómo la Entidad evidencia que está dando respuesta al requerimiento Referencia a Procesos, Manuales/Políticas+C21:I31n/Procedimientos/Instructivos u otros desarrollos que den cuente de su aplicación | E21: Explicación de cómo la Entidad evidencia que está dando respuesta al requerimiento Referencia a Procesos, Manuales/Políticas de Operación/Procedimientos/Instructivos u otros desarrollos que den cuente de su aplicación | F21: Presente (1/2/3) | G21: EVIDENCIA DEL CONTROL | J21: Funcionando (1/2/3) | K21: Evaluación
G22: No. | H22: Referencia a Análisis y verificaciones en el marco del Comité Institucional de Coordinación de Control Interno | I22: Observaciones de la evaluación independiente (tener en cuenta papel de líneas de defensa)
A24: EJEMPLO | B24: =+LEFT(C24,3) -> Ap | C24: Aplicación del Código de Integridad. (incluye análisis de desviaciones, convivencia laboral, temas disciplinarios internos, quejas o denuncias sobres los servidores de la entidad, u otros temas relacionados). | D24: Dimensión Talento Humano Política Integridad | E24: Se implementó el Código de Integridad acorde con el esquema definido de 5 valores y sus lineamientos de conducta y se desarrollaron ejercicios internos con talleres para la socialización e interiorización a todos los servidores y contratistas de la entidad. | F24: 3 | G24: 1 | H24: Seguimiento al cumplimiento de la elaboración y socialización del Código de Integridad, con base en el informe presentando por la segunda línea de defensa (cuando aplique). | I24: Se llevo a cabo un seguimiento a lo dispuesto en el marco del Comité Institucional de Coordinación de Control Interno, donde se determino la necesidad de estructurar el código de integridad siguiendo la metodología de Función Pública, para ello se delego como responsable del mismo al Secretario General. Se encontró que se realizaron ejercicios lúdicos y participativos para la construcción de los 5 valores institucionales, cada mes se hacen campañas de interiorización de los mismo al personal de la entidad, teniendo como evidencia el compromiso de los funcionarios con el horario laboral, una reducción del ausentismo así como un bajo porcentaje de quejas por parte de los ciudadanos. Por otra parte, se realiza seguimiento mensual por parte del Secretario General al cumplimiento de las actividades propuestas en el cronograma. | J24: 3 | K24: =+IF(OR(ISBLANK(F24),ISBLANK(J24)),"",IF(OR(AND(F24=1,J24=1),AND(F24=1,J24=2),AND(F24=1,J24=3)),"Deficiencia de control mayor (diseño y ejecución)",IF(OR(AND(F24=2,J24=2),AND(F24=3,J24=1),AND(F24=3,J24=2),AND(F24=2,J24=1)),"Deficiencia de control (diseño o ejecución)",IF(AND(F24=2,J24=3),"Oportunidad de mejora","Mantenimiento del control")))) -> Mantenimiento del control
G25: 2 | H25: En el marco del Comité Institucional de Control Interno bimensualmente se contrastan quejas internas y externas sobre situaciones irregulares.
G26: 3 | H26: Se han analizado los temas más críticos acerca en relación con el ausentismo, acoso laboral, solicitudes de traslado y rotación del personal.
B32: =+LEFT(C32,3) -> 1.1 | C32: 1.1 Aplicación del Código de Integridad. (incluye análisis de desviaciones, convivencia laboral, temas disciplinarios internos, quejas o denuncias sobres los servidores de la entidad, u otros temas relacionados). | D32: Dimensión Talento Humano Política Integridad | E32: Los valores institucionales fueron adoptados mediante la Resolución 345 de 2018 "Por la cual se adopta el Código de Integridad, se establecen los lineamientos para la conformación del equipo de Gestores de Integridad de la Unidad Administrativa Especial de Servicios Públicos y se dictan otras disposiciones" modificada por las Resoluciones 679 y la 776 de 2023, buscando fortalecer la cultura organizacional en torno a la integridad y la transparencia. Se cuenta con la conformación de los Gestores de Integridad vigencia 2026-2027. Resolución No. 309 del 22 de mayo del 2026,"Por la cual se conforma el Equipo de Gestores/as de Integridad de la Unidad Administrativa Especial de Servicios Públicos para la vigencia 2026 - 2027” La Oficina de Control Interno, como Tercera Línea de Defensa, dentro del seguimiento al Programa de Transparencia y Ëtica Pública (febrero de 2026), verificó el cumplimiento de actividades identificadas para el tema de Integridad en la Entidad durante la vigencia 2025. | F32: 3 | G32: 1 | H32: informe programa de integridad trimestral | I32: De acuerdo con los soportes evidenciados en el Plan de Integridad se destaca el Programa de Integridad 2025-2028 el cual fue presentado al CICCI del mes de enero de 2025. Asi mismo se destaca, el cronograma de Integridad 2026, con actividades de formtalecimiento de apropiación de los valores institucionales. Los resultados de la evaluación del Programa de Transparencia y Ética Pública se presentaron para conocimiento del Comité Institucional de Gestión y Desempeño o al Comité de Coordinación de Control Interno para que, como líderes del Sistema y de la implementación del MIPG, mejoren las debilidades evidenciadas por la OCI. | J32: 3 | K32: =+IF(OR(ISBLANK(F32),ISBLANK(J32)),"",IF(OR(AND(F32=1,J32=1),AND(F32=1,J32=2),AND(F32=1,J32=3)),"Deficiencia de control mayor (diseño y ejecución)",IF(OR(AND(F32=2,J32=2),AND(F32=3,J32=1),AND(F32=3,J32=2),AND(F32=2,J32=1)),"Deficiencia de control (diseño o ejecución)",IF(AND(F32=2,J32=3),"Oportunidad de mejora","Mantenimiento del control")))) -> Mantenimiento del control | L32: =+IF(K32="",0,IF(K32="Deficiencia de control mayor (diseño y ejecución)",4,IF(K32="Deficiencia de control (diseño o ejecución)",20,IF(K32="Oportunidad de mejora",40,60)))) -> 60 | M32: 0.04587 | N32: =+L32+M32 -> 60.04587
G33: 2 | H33: Programa de integridad 2025-2028
G34: 3 | H34: metodologiá
G35: 4 | H35: Resolución integrantes
G36: 5 | H36: test de percepción de integridad
G37: 6 | H37: Resolución No. 309 del 22 de mayo del 2026,"Por la cual se conforma el Equipo de Gestores/as de Integridad de la Unidad Administrativa Especial de Servicios Públicos para la vigencia 2026 - 2027”
B41: =+LEFT(C41,3) -> 1.2 | C41: 1.2 Mecanismos para el manejo de conflictos de interés. | D41: Dimensión Talento Humano Política Integridad | E41: Se solicitó el diligenciamiento y reporte en SIDEAP y SIGEP del formulario de conflicto de interés, CIRCULAR No.20267000000154 del 03/06/2026, así mismo verifica que esta declaración esté realizada antes de la posesión de la persona en cualquiera de los cargos de la planta de personal. La OCI tiene el formato: ECM-FM-10 V1 Compromiso de independencia y objetividad, el cual los auditores suscriben, certificando no tener ningún conflicto de interés y ser indeoendientes y objetivos con los trabajos de auditoría a realizar en la vigencia. | F41: 3 | G41: 1 | H41: Se tiene programado realizar una auditoría durante el segundo semestre de 2026 de la Estrategia de Conflicto de Interés. | I41: Piezas de socialización por parte del área de Talento Humano para la presentación oportuna de las Declaraciones de conflictos de interes y Declaraciones de Bienes y Rentas durante el 2026. Mantener la implementación y divulgación de los mecanismos establecidos para la identificación, declaración y manejo oportuno de los conflictos de interés, así como la verificación del diligenciamiento de la información en SIDEAP y SIGEP y la suscripción de los compromisos de independencia y objetividad por parte de los auditores de la OCI, conservando las evidencias que permitan demostrar su aplicación y seguimiento | J41: 3 | K41: =+IF(OR(ISBLANK(F41),ISBLANK(J41)),"",IF(OR(AND(F41=1,J41=1),AND(F41=1,J41=2),AND(F41=1,J41=3)),"Deficiencia de control mayor (diseño y ejecución)",IF(OR(AND(F41=2,J41=2),AND(F41=3,J41=1),AND(F41=3,J41=2),AND(F41=2,J41=1)),"Deficiencia de control (diseño o ejecución)",IF(AND(F41=2,J41=3),"Oportunidad de mejora","Mantenimiento del control")))) -> Mantenimiento del control | L41: =+IF(K41="",0,IF(K41="Deficiencia de control mayor (diseño y ejecución)",4,IF(K41="Deficiencia de control (diseño o ejecución)",20,IF(K41="Oportunidad de mejora",40,60)))) -> 60 | M41: 0.05569 | N41: =+L41+M41 -> 60.05569
G42: 2 | H42: Se tiene programado realizar una auditoría durante el segundo semestre de 2026 del registro de información en SIDEAP y SIGEP.
H43: Firma del ECM-FM-10 V1 Compromiso de independencia y objetividad
H44: Diligenciamiento del formulario de Conflicto de Interés en SIGEP y SIDEAP
B50: =+LEFT(C50,3) -> 1.3 | C50: 1.3 Mecanismos frente a la detección y prevención del uso inadecuado de información privilegiada u otras situaciones que puedan implicar riesgos para la entidad. | D50: Dimensión Información y Comunicación Política Transparencia y Acceso a la Información Pública Política Gestión Documental | E50: * Inventario de activos de información * Índice de Información Clasficiada y Reservada * Control de acceso a sistemas de información por asignación de Roles * Politicas de seguridad y privacidad de la información * GTI-PC-13 Cifrado de la información * Controles de acceso: Credenciales de acceso por LDAP, uso de VPN * Sensibilizaciones en Seguridad de la Información. * Clausulas y formatos de acuerdos de confidencialidad * Mesa Técnica Seguridad Digital La Entidad mantiene un inventario actualizado de sus activos de información, quedando bajo la responsabilidad de cada propietario de información y centralizado por el área de Sistemas. Igualmente, por medio de correos electrónicos y capacitaciones, se fomenta la transparencia y acceso a la información; y temas relacionados. Durante el primer semestre de 2026 se realizó la encuensta de Datos Abiertos: Mide la calidad y satisfacciòn de la ciudadania con el uso de los Datos Abiertos generados por la Unidad Administrativa Especial de Servicios Pùblicos - UAESP | F50: 3 | G50: 1 | H50: https://www.uaesp.gov.co/mipg/documentos-sig/gestionti/planes/Pol%C3%ADticas%20de%20Seguridad%20y%20Privacidad%20de%20la%20Informaci%C3%B3n%202024.pdf | I50: En la UAESP se cuenta con la Mesa Técnica de Seguridad Digital, y Mesa Técnica de Gobierno Digital en el cual se abordan estos temas de seguridad y acceso a la información. Mantener la implementación, actualización y seguimiento de los mecanismos establecidos para prevenir el uso inadecuado o la divulgación no autorizada de información institucional, incluyendo la gestión de activos de información, los controles de acceso, el cifrado, los acuerdos de confidencialidad, las sensibilizaciones y el funcionamiento de las mesas técnicas de seguridad digital, conservando las evidencias que permitan demostrar su aplicación continua y efectiva. | J50: 3 | K50: =+IF(OR(ISBLANK(F50),ISBLANK(J50)),"",IF(OR(AND(F50=1,J50=1),AND(F50=1,J50=2),AND(F50=1,J50=3)),"Deficiencia de control mayor (diseño y ejecución)",IF(OR(AND(F50=2,J50=2),AND(F50=3,J50=1),AND(F50=3,J50=2),AND(F50=2,J50=1)),"Deficiencia de control (diseño o ejecución)",IF(AND(F50=2,J50=3),"Oportunidad de mejora","Mantenimiento del control")))) -> Mantenimiento del control | L50: =+IF(K50="",0,IF(K50="Deficiencia de control mayor (diseño y ejecución)",4,IF(K50="Deficiencia de control (diseño o ejecución)",20,IF(K50="Oportunidad de mejora",40,60)))) -> 60 | M50: 0.066896 | N50: =+L50+M50 -> 60.066896
G51: 2 | H51: https://www.uaesp.gov.co/mipg/documentos-sig/gestionti/procedimientos/GTI-PC-13%20V2%20Cifrado%20de%20Informacion.pdf
G52: 3 | H52: https://www.uaesp.gov.co/content/registro-activos-informacion-e-indice-informacion-clasificada-y-reservada
G53: 4 | H53: Se tiene programado realizar una auditoría durante el segundo semestre de 2026 al modelo de Seguridad y Privacidad de la Información.
G54: 5 | H54: Encuesta de Datos Abiertos.
B58: =+LEFT(C58,3) -> 1.4 | C58: 1.4 La evaluación de las acciones transversales de integridad, mediante el monitoreo permanente de los riesgos de corrupción. | D58: Dimensión Talento Humano Política de Integridad | E58: El seguimiento a riesgos se gestiona de acuerdo a la Politica de riesgos, reportando mensualmente el seguimiento y cargando las evidencias correspondientes. La Primera, Segunda y Tercera Líneas de Defensa, realizaron mesas de trabajo con los procesos para la actualización de sus riesgos de gestión y corrupción, para la vigencia 2026. La OCI elaboró el "Informe Final de Auditoría - Seguimiento al Mapa de Riesgos y Oportunidades de la Unidad Administrativa Especial de Servicios Públicos - (UAESP) con corte a 30 de abril de 2026" La Oficina de Control Interno, como Tercera Línea de Defensa, dentro del seguimiento al Programa de Transparencia y Ëtica Pública (febrero de 2026), verificó el cumplimiento de actividades identificadas para el tema de Riesgos de Corrupción durante la vigencia 2025. | F58: 3 | G58: 1 | H58: Informe de seguimiento a riesgos primer semestre 2026 - OCI | I58: La UAESP cuenta con una Política de Administración del Riesgo actualizada conforme a la Guía para la Gestión Integral del Riesgo en Entidades Públicas, versión 7 del DAFP, la cual incorpora los riesgos para la integridad pública, define responsabilidades para las líneas de defensa y establece mecanismos periódicos de autocontrol, monitoreo y evaluación independiente. Durante el periodo evaluado, la Oficina de Control Interno realizó seguimiento al Mapa y Plan de Manejo de Riesgos y Oportunidades, incluyendo los riesgos de integridad pública, sin identificar materializaciones. De manera general, se evidenció la aplicación de los controles y el seguimiento efectuado por las líneas de defensa. No obstante, se identificaron debilidades en la completitud y calidad de algunos soportes aportados por los procesos, lo que limitó la validación de la ejecución y eficacia de determinados controles. Adicionalmente, si bien la política se encuentra sustancialmente alineada con la Guía del DAFP, se considera pertinente complementar la formalización de los roles específicos del SIGRIP, la asignación de la función de cumplimiento, la periodicidad y contenido de su evaluación, los criterios de auditoría y su proceso de mejora continua. Recomendación: Fortalecer el monitoreo y la evaluación de los riesgos para la integridad pública, estableciendo criterios mínimos para la completitud, calidad, oportunidad y trazabilidad de las evidencias que soportan la ejecución y eficacia de los controles. Asimismo, complementar la Política de Administración del Riesgo con la formalización de los roles y responsabilidades específicos del SIGRIP, la asignación de la función de cumplimiento, la periodicidad y contenido de su evaluación, los criterios para su auditoría y el proceso de mejora continua, de conformidad con la Guía para la Gestión Integral del Riesgo en Entidades Públicas, versión 7 del DAFP. | J58: 2 | K58: =+IF(OR(ISBLANK(F58),ISBLANK(J58)),"",IF(OR(AND(F58=1,J58=1),AND(F58=1,J58=2),AND(F58=1,J58=3)),"Deficiencia de control mayor (diseño y ejecución)",IF(OR(AND(F58=2,J58=2),AND(F58=3,J58=1),AND(F58=3,J58=2),AND(F58=2,J58=1)),"Deficiencia de control (diseño o ejecución)",IF(AND(F58=2,J58=3),"Oportunidad de mejora","Mantenimiento del control")))) -> Deficiencia de control (diseño o ejecución) | L58: =+IF(K58="",0,IF(K58="Deficiencia de control mayor (diseño y ejecución)",4,IF(K58="Deficiencia de control (diseño o ejecución)",20,IF(K58="Oportunidad de mejora",40,60)))) -> 20 | M58: 0.06691 | N58: =+L58+M58 -> 20.06691
G59: 2 | H59: Informe de seguimiento al PTEP - Segundo semestre 2025
G60: 3
G61: 4
G62: 5
G63: 6
G64: 7
B66: =+LEFT(C66,3) -> 1.5 | C66: 1.5 Análisis sobre viabilidad para el establecimiento de una línea de denuncia interna sobre situaciones irregulares o posibles incumplimientos al código de integridad. NOTA: Si la entidad ya cuenta con esta línea en funcionamiento, establezca si ha aportado para la mejora de los mapas de riesgos o bien en otros ámbitos organizacionales. | D66: Dimensión Direccionamiento Estratégico y Planeación Plan Anticorrupción y de Atención al Ciudadano | E66: Se cuenta con los canales para hacer una denuncia de corrupción a disposición de cualquier interesado: integridad@uaesp.gov.co https://www.uaesp.gov.co/content/canales-atencion | F66: 3 | G66: 1 | H66: https://www.uaesp.gov.co/content/canales-atencion | I66: La UAESP cuenta con canales institucionales para la recepción de denuncias relacionadas con posibles actos de corrupción, situaciones irregulares, inhabilidades, incompatibilidades y conflictos de interés, entre ellos el correo electrónico integridad@uaesp.gov.co y los canales de atención publicados en la página web institucional. Asimismo, se evidenció la existencia de lineamientos para el trámite de las denuncias, actividades de divulgación y espacios de articulación entre las dependencias responsables para establecer la ruta institucional de atención. Recomendación: Fortalecer el seguimiento al funcionamiento de los canales de denuncia mediante la elaboración y socialización a la comunidad institucional de reportes periódicos que permitan identificar el número y tipología de las denuncias recibidas, su estado, tiempos de atención y resultados, preservando la reserva y confidencialidad de la información. Asimismo, utilizar los resultados de estos análisis como insumo para la actualización de los riesgos de integridad pública, el fortalecimiento de los controles y la adopción de acciones de mejora institucional. | J66: 3 | K66: =+IF(OR(ISBLANK(F66),ISBLANK(J66)),"",IF(OR(AND(F66=1,J66=1),AND(F66=1,J66=2),AND(F66=1,J66=3)),"Deficiencia de control mayor (diseño y ejecución)",IF(OR(AND(F66=2,J66=2),AND(F66=3,J66=1),AND(F66=3,J66=2),AND(F66=2,J66=1)),"Deficiencia de control (diseño o ejecución)",IF(AND(F66=2,J66=3),"Oportunidad de mejora","Mantenimiento del control")))) -> Mantenimiento del control | L66: =+IF(K66="",0,IF(K66="Deficiencia de control mayor (diseño y ejecución)",4,IF(K66="Deficiencia de control (diseño o ejecución)",20,IF(K66="Oportunidad de mejora",40,60)))) -> 60 | M66: 0.06691 | N66: =+L66+M66 -> 60.06691
G67: 2
C74: Lineamiento 2: Aplicación de mecanismos para ejercer una adecuada supervisión del Sistema de Control Interno | D74: DIMENSIÓN O POLÍTICA DEL MIPG ASOCIADA AL REQUERIMIENTO | E74: Explicación de cómo la Entidad evidencia que está dando respuesta al requerimiento Referencia a Procesos, Manuales/Políticas de Operación/Procedimientos/Instructivos u otros desarrollos que den cuente de su aplicación | F74: Presente (1/2/3) | G74: EVIDENCIA DEL CONTROL | J74: Funcionando (1/2/3) | K74: Evaluación
G75: No. | H75: Referencia a Análisis y verificaciones en el marco del Comité Institucional de Coordinación de Control Interno | I75: Observaciones de la evaluación independiente (tener en cuenta papel de líneas de defensa)
B77: =+LEFT(C77,3) -> 2.1 | C77: 2.1 Creación o actualización del Comité Institucional de Coordinación de Control Interno (incluye ajustes en periodicidad para reunión, articulación con el Comité Institucional de Gestión y Desempeño). | D77: Dimensión Control Interno Política de Control Interno | E77: Para la vigencia 2026, se programó en el Plan Anual de Auditorías realizar 3 sesiones del CICCI, cumpliendo con sesiones reglamentarias. De ser necesario se realizán sesiones adicionales a solicitud de los miembros del Comité. | F77: 3 | G77: 1 | H77: Actas de reunión del CICCI | I77: La Oficina de Control Interno evidenció que el Comité Institucional de Coordinación de Control Interno se encuentra formalmente constituido y opera de acuerdo con las funciones y periodicidad establecidas. Durante la vigencia 2026 se programaron tres sesiones ordinarias en el marco del Plan Anual de Auditoría, evidenciándose mediante las actas correspondientes el análisis de asuntos relacionados con el Sistema de Control Interno, la gestión de riesgos, el seguimiento al Plan Anual de Auditoría y la adopción de decisiones y recomendaciones por parte de sus integrantes. Asimismo, el Comité constituye una instancia de orientación y seguimiento para el fortalecimiento del Sistema de Control Interno. Para sustentar integralmente el criterio, se deberá conservar evidencia de la articulación entre el CICCI y el Comité Institucional de Gestión y Desempeño, especialmente frente a los asuntos de gestión de riesgos, desempeño institucional y acciones de mejoramiento. Recomendación: Mantener el funcionamiento periódico del Comité Institucional de Coordinación de Control Interno, asegurando la convocatoria oportuna de sus integrantes, la documentación de las decisiones y compromisos adoptados, el seguimiento a su cumplimiento y la articulación con el Comité Institucional de Gestión y Desempeño en los asuntos relacionados con la gestión de riesgos, el desempeño institucional y el fortalecimiento del Sistema de Control Interno. | J77: 3 | K77: =+IF(OR(ISBLANK(F77),ISBLANK(J77)),"",IF(OR(AND(F77=1,J77=1),AND(F77=1,J77=2),AND(F77=1,J77=3)),"Deficiencia de control mayor (diseño y ejecución)",IF(OR(AND(F77=2,J77=2),AND(F77=3,J77=1),AND(F77=3,J77=2),AND(F77=2,J77=1)),"Deficiencia de control (diseño o ejecución)",IF(AND(F77=2,J77=3),"Oportunidad de mejora","Mantenimiento del control")))) -> Mantenimiento del control | L77: =+IF(K77="",0,IF(K77="Deficiencia de control mayor (diseño y ejecución)",4,IF(K77="Deficiencia de control (diseño o ejecución)",20,IF(K77="Oportunidad de mejora",40,60)))) -> 60 | M77: 0.0889653 | N77: =+L77+M77 -> 60.088965
G78: 2 | H78: Resolución UAESP 757 de 2023 - Instancias de operacionalización del Sistema de Gestión y Sistema de Control Interno en la UAESP
B85: =+LEFT(C85,3) -> 2.2 | C85: 2.2 Definición y documentación del Esquema de Líneas de Defensa | D85: Dimensión Control Interno Política de Control Interno Líneas de defensa | E85: La entidad cuenta con el "Manual Sistema Integrado de Gestión", la Política de Administración de Riesgos, y mediante la Resolución UAESP 757 de 2023 - Instancias de operacionalización del Sistema de Gestión y Sistema de Control Interno en la UAESP. Manual de l sistema de Gestión DES-MN-01 V7 Manual del SIG. | F85: 3 | G85: 1 | H85: Politica de administración de riesgos | I85: La UAESP cuenta con un Esquema de Líneas de Defensa formalmente documentado mediante la Resolución 757 de 2023, el Manual del Sistema Integrado de Gestión y la Política de Administración del Riesgo actualizada en noviembre de 2025. Estos instrumentos identifican los responsables y las funciones correspondientes a la línea estratégica y a la primera, segunda y tercera líneas de defensa. Durante el periodo evaluado se evidenció su aplicación mediante los ejercicios de monitoreo efectuados por la primera y segunda línea de defensa y la evaluación independiente realizada por la Oficina de Control Interno. No obstante, se considera pertinente continuar armonizando los instrumentos institucionales para precisar la participación complementaria del CIGD y el CICCI, actualizar las referencias metodológicas y formalizar los roles específicos requeridos para la operación del SIGRIP. Recomendación: Mantener actualizado y armonizado el Esquema de Líneas de Defensa, asegurando la coherencia entre la Resolución 757 de 2023, el Manual del Sistema Integrado de Gestión y la Política de Administración del Riesgo. Asimismo, continuar precisando las responsabilidades complementarias del CIGD y el CICCI, la identificación de las instancias que ejercen funciones de segunda línea y los roles específicos del SIGRIP, de conformidad con los lineamientos de la Guía para la Gestión Integral del Riesgo, versión 7 del DAFP.. | J85: 3 | K85: =+IF(OR(ISBLANK(F85),ISBLANK(J85)),"",IF(OR(AND(F85=1,J85=1),AND(F85=1,J85=2),AND(F85=1,J85=3)),"Deficiencia de control mayor (diseño y ejecución)",IF(OR(AND(F85=2,J85=2),AND(F85=3,J85=1),AND(F85=3,J85=2),AND(F85=2,J85=1)),"Deficiencia de control (diseño o ejecución)",IF(AND(F85=2,J85=3),"Oportunidad de mejora","Mantenimiento del control")))) -> Mantenimiento del control | L85: =+IF(K85="",0,IF(K85="Deficiencia de control mayor (diseño y ejecución)",4,IF(K85="Deficiencia de control (diseño o ejecución)",20,IF(K85="Oportunidad de mejora",40,60)))) -> 60 | M85: 0.0989653 | N85: =+L85+M85 -> 60.098965
G86: 2 | H86: https://www.uaesp.gov.co/mipg/documentos-sig/direccionamiento_estrategico/manuales/DES-MN-01%20V7%20Manual%20del%20SIG.pdf
G87: 3 | H87: https://www.uaesp.gov.co/upload/resoluciones/2023/RESOLUCION_757_DE_2023.pdf
B93: =+LEFT(C93,3) -> 2.3 | C93: 2.3 Definición de líneas de reporte en temas clave para la toma de decisiones, atendiendo el Esquema de Líneas de Defensa | D93: Dimensión Control Interno Política de Control Interno Línea de Defensa Dimensión de Información y Comunicación | E93: La entidad cuenta con el "Manual Sistema Integrado de Gestión", la Política de Administración de Riesgos, y mediante la Resolución UAESP 757 de 2023 - Instancias de operacionalización del Sistema de Gestión y Sistema de Control Interno en la UAESP | F93: 3 | G93: 1 | H93: Politica de administración de riesgos | I93: La Oficina de Control Interno evidenció que la UAESP cuenta con líneas de reporte formalmente definidas y documentadas, atendiendo el Esquema de Líneas de Defensa. El Manual del Sistema Integrado de Gestión, versión 7, establece los informes y temas objeto de monitoreo, las dependencias responsables, los destinatarios, los medios de comunicación y la periodicidad de presentación, permitiendo que la información relevante sea conocida por el CIGD, el CICCI y las demás instancias competentes. Recomendación: Mantener actualizadas y en operación las líneas de reporte definidas en el Manual del Sistema Integrado de Gestión, asegurando el cumplimiento de las periodicidades establecidas, la trazabilidad de los informes presentados, las decisiones adoptadas y el seguimiento a los compromisos. Asimismo, continuar precisando los criterios de escalamiento y articulación entre el CIGD y el CICCI e incorporar expresamente el reporte de los indicadores clave de riesgo y de los resultados de la evaluación del SIGRIP para apoyar oportunamente la toma de decisiones de la Alta Dirección. | J93: 3 | K93: =+IF(OR(ISBLANK(F93),ISBLANK(J93)),"",IF(OR(AND(F93=1,J93=1),AND(F93=1,J93=2),AND(F93=1,J93=3)),"Deficiencia de control mayor (diseño y ejecución)",IF(OR(AND(F93=2,J93=2),AND(F93=3,J93=1),AND(F93=3,J93=2),AND(F93=2,J93=1)),"Deficiencia de control (diseño o ejecución)",IF(AND(F93=2,J93=3),"Oportunidad de mejora","Mantenimiento del control")))) -> Mantenimiento del control | L93: =+IF(K93="",0,IF(K93="Deficiencia de control mayor (diseño y ejecución)",4,IF(K93="Deficiencia de control (diseño o ejecución)",20,IF(K93="Oportunidad de mejora",40,60)))) -> 60 | M93: 0.15698 | N93: =+L93+M93 -> 60.15698
G94: 2 | H94: https://www.uaesp.gov.co/mipg/documentos-sig/direccionamiento_estrategico/manuales/DES-MN-01%20V7%20Manual%20del%20SIG.pdf
...

Sheet Evaluación de riesgos
B10: EVALUACIÓN DE RIESGOS
B11: Este componente hace referencia al ejercicio efectuado bajo el liderazgo del equipo directivo y de todos los servidores de la entidad, y permite identificar, evaluar y gestionar eventos potenciales, tanto internos como externos, que puedan afectar el logro de los objetivos institucionales. La condición para la evaluación de riesgos es el establecimiento de objetivos, vinculados a varios niveles de la entidad, lo que implica que la Alta Dirección define objetivos y los agrupa en categorías en todos los niveles de la entidad, con el fin de evaluarlos
A13: ID | B13: Lineamiento 6: Definición de objetivos con suficiente claridad para identificar y evaluar los riesgos relacionados: i)Estratégicos; ii)Operativos; iii)Legales y Presupuestales; iv)De Información Financiera y no Financiera. | C13: DIMENSIÓN O POLÍTICA DEL MIPG ASOCIADA AL REQUERIMIENTO | D13: Explicación de cómo la Entidad evidencia que está dando respuesta al requerimiento Referencia a Procesos, Manuales/Políticas de Operación/Procedimientos/Instructivos u otros desarrollos que den cuente de su aplicación | E13: Presente (1/2/3) | F13: EVIDENCIA DEL CONTROL | I13: Funcionando (1/2/3) | J13: Evaluación
F14: No. | G14: Referencia a Análisis y verificaciones en el marco del Comité Institucional de Coordinación de Control Interno | H14: Observaciones de la evaluación independiente (tener encuentra papel de líneas de defensa)
A16: =+LEFT(B16,3) -> 6.1 | B16: 6.1 La Entidad cuenta con mecanismos para vincular o relacionar el plan estratégico con los objetivos estratégicos y estos a su vez con los objetivos operativos. | C16: Dimensión de Direccionamiento Estratégico y Planeación. Política de Planeación Institucional | D16: La UAESP tiene publicada la "Política de Planeación Institucional", la que artícula el plan estratégico con los objetivos institucionales y dentro de esta se encuentran los siguientes documentos: ⎼ Caracterizacióńn Grupos de Interés UAESP ⎼ Portafolio de Servicios ⎼ Misión y visión ⎼ Objetivos Institucionales ⎼ Política de planeación institucional ⎼ Plan Estratégico Institucional ⎼ Organigrama ⎼ Planes ⎼ Programas y proyectos en ejecución ⎼ Metas, objetivos e indicadores de gestión y/o desempeño ⎼ informes de empalme ⎼ Información minima requerida para publicar En el plan estratégico institucional se encuentran los objetivos y metas estratégicas para su seguimiento. ⎼ Seguimiento Plan de acción institucional disponible web ⎼ Seguimiento segunda línea PAyS, riesgos - Se presenta informe de segunda línea de defensa en los comites CIGD. | E16: 3 | F16: 1 | G16: EI 2024-2028. | H16: La UAESP cuenta con mecanismos formalmente establecidos para articular la planeación distrital, estratégica y operativa. La Guía DES-GA-01 V1 y el procedimiento DES-PC-04 V7 disponen que los objetivos estratégicos, metas e indicadores del Plan Estratégico Institucional deben armonizarse con el Plan Distrital de Desarrollo, los proyectos de inversión y los demás instrumentos de planeación, utilizando para tal efecto la matriz DES-FM-44. El PEI 2024-2028 relaciona los objetivos estratégicos con metas, indicadores, proyectos de inversión y magnitudes previstas para el cuatrienio. A su vez, el Plan de Acción Institucional desarrolla el componente operativo mediante planes, actividades e indicadores y el componente estratégico mediante los proyectos de inversión, cuyas actividades se formulan tomando como referencia las metas y objetivos del PDD, el PEI y el POAI. Durante el periodo evaluado se evidenció la formulación, aprobación y seguimiento de los planes operativos y proyectos de inversión, así como la consolidación y presentación de sus resultados ante el Comité Institucional de Gestión y Desempeño. | I16: 3 | J16: =+IF(OR(ISBLANK(E16),ISBLANK(I16)),"",IF(OR(AND(E16=1,I16=1),AND(E16=1,I16=2),AND(E16=1,I16=3)),"Deficiencia de control mayor (diseño y ejecución)",IF(OR(AND(E16=2,I16=2),AND(E16=3,I16=1),AND(E16=3,I16=2),AND(E16=2,I16=1)),"Deficiencia de control (diseño o ejecución)",IF(AND(E16=2,I16=3),"Oportunidad de mejora","Mantenimiento del control")))) -> Mantenimiento del control | K16: =+IF(J16="",75,IF(J16="Deficiencia de control mayor (diseño y ejecución)",80,IF(J16="Deficiencia de control (diseño o ejecución)",100,IF(J16="Oportunidad de mejora",120,140)))) -> 140 | L16: 1.7896 | M16: =+K16+L16 -> 141.7896
F17: 2 | G17: DES-GA-01 V1.
F18: 3 | G18: DES-PC-04 V7.
F19: 4 | G19: Matriz DES-FM-44.
F20: 5 | G20: PAI 2026 y su informe del primer trimestre.
F21: 6 | G21: Seguimiento de segunda línea al PEI.
F22: 7 | G22: Actas y presentaciones del CIGD.
A28: =+LEFT(B28,3) -> 6.2 | B28: 6.2 Los objetivos de los procesos, programas o proyectos (según aplique) que están definidos, son específicos, medibles, alcanzables, relevantes, delimitados en el tiempo. | C28: Dimensión de Gestión con Valores para Resultado Política de Fortalecimiento Organizacional y Simplificación de Procesos | D28: La UAESP cuenta con el plan "PC- 03 formulación y seguimiento del plan de acción institucional" Reportes de SEGPLAN y matrices de programación física y presupuestal. Tablero general indicadores Caracterizaciones de los procesos Plan Anual de Auditorías 2026 | E28: 3 | F28: 1 | G28: DES-PC-03 V12 – Formulación y seguimiento al Plan de Acción Institucional, actualizando la referencia que actualmente aparece como V11. | H28: La UAESP cuenta con mecanismos formalmente establecidos para formular y hacer seguimiento a los objetivos, metas y actividades de sus planes y proyectos. El procedimiento DES-PC-03 V12 dispone que el Plan de Acción Institucional debe contener objetivos, estrategias, proyectos, metas, actividades, responsables, cronogramas y asignación presupuestal, y establece reportes mensuales, productos o entregables e informes trimestrales de seguimiento. Asimismo, el procedimiento DES-PC-02 V8 define las metas de los proyectos de inversión como resultados concretos, medibles, realizables y verificables que deben obtenerse dentro de un tiempo determinado y ser registrados y monitoreados mediante SEGPLAN. Durante el periodo evaluado se evidenció la aplicación de indicadores, porcentajes de avance, seguimiento de segunda línea, informes del PAI, seguimiento a proyectos de inversión y presentación de resultados ante el Comité Institucional de Gestión y Desempeño. No obstante, el informe de la Oficina de Control Interno sobre las metas del Plan Distrital de Desarrollo identificó cinco metas con ejecución nula o marginal, asociadas principalmente con indicadores formulados únicamente sobre el resultado final y sin hitos o entregables intermedios que permitieran medir avances parciales. Recomendación: | I28: 3 | J28: =+IF(OR(ISBLANK(E28),ISBLANK(I28)),"",IF(OR(AND(E28=1,I28=1),AND(E28=1,I28=2),AND(E28=1,I28=3)),"Deficiencia de control mayor (diseño y ejecución)",IF(OR(AND(E28=2,I28=2),AND(E28=3,I28=1),AND(E28=3,I28=2),AND(E28=2,I28=1)),"Deficiencia de control (diseño o ejecución)",IF(AND(E28=2,I28=3),"Oportunidad de mejora","Mantenimiento del control")))) -> Mantenimiento del control | K28: =+IF(J28="",75,IF(J28="Deficiencia de control mayor (diseño y ejecución)",80,IF(J28="Deficiencia de control (diseño o ejecución)",100,IF(J28="Oportunidad de mejora",120,140)))) -> 140 | L28: 1.8896 | M28: =+K28+L28 -> 141.8896
F29: 2 | G29: Seguimientos trimestrales del PAI.
F30: 3 | G30: Tablero general de indicadores e informes de segunda línea.
F31: 4 | G31: DES-PC-02 V8 – Formulación, actualización y seguimiento a los proyectos de inversión.
F32: 5 | G32: Reportes de SEGPLAN y matrices de programación física y presupuestal.
F33: 6 | G33: Informe de Revisión por la Dirección 2025.
F34: 7 | G34: Informe OCI de seguimiento a las metas del PDD con corte al 31 de diciembre de 2025.
A36: =+LEFT(B36,3) -> 6.3 | B36: 6.3 La Alta Dirección evalúa periódicamente los objetivos establecidos para asegurar que estos continúan siendo consistentes y apropiados para la Entidad. | C36: Dimensión de Direccionamiento Estratégico y Planeación. Política de Planeación Institucional Dimensión Control Interno Línea Estratégica | D36: La UAESP cuenta con el procedimiento DES-PC-14 Revisión por la Dirección el cual permite a la Alta Dirección evaluar periódicamente los objetivos establecidos para asegurar su cumplimiento. En el plan estratégico institucional se encuentran los objetivos y metas estratégicas para su seguimiento el seguimiento es semestral. De manera anual se realiza el informe de Revisión por la Dirección. Se realiza seguimiento trimestral a la Ejecución del PAID. | E36: 3 | F36: 1 | G36: DES-PC-14 V1 – Revisión por la Dirección del SIG. | H36: La UAESP cuenta con mecanismos formalmente establecidos para que la Alta Dirección evalúe periódicamente los objetivos institucionales. El procedimiento DES-PC-14 V1 determina la realización anual de la revisión por la Dirección ante el Comité Institucional de Gestión y Desempeño, instancia responsable de analizar los resultados de los procesos y sistemas, tomar decisiones y determinar acciones de mejora. De manera complementaria, el Plan Estratégico Institucional es objeto de seguimiento periódico por parte de la Oficina Asesora de Planeación y sus resultados son presentados al CIGD para análisis y toma de decisiones. | I36: 3 | J36: =+IF(OR(ISBLANK(E36),ISBLANK(I36)),"",IF(OR(AND(E36=1,I36=1),AND(E36=1,I36=2),AND(E36=1,I36=3)),"Deficiencia de control mayor (diseño y ejecución)",IF(OR(AND(E36=2,I36=2),AND(E36=3,I36=1),AND(E36=3,I36=2),AND(E36=2,I36=1)),"Deficiencia de control (diseño o ejecución)",IF(AND(E36=2,I36=3),"Oportunidad de mejora","Mantenimiento del control")))) -> Mantenimiento del control | K36: =+IF(J36="",75,IF(J36="Deficiencia de control mayor (diseño y ejecución)",80,IF(J36="Deficiencia de control (diseño o ejecución)",100,IF(J36="Oportunidad de mejora",120,140)))) -> 140 | L36: 1.9754 | M36: =+K36+L36 -> 141.9754
F37: 2 | G37: Informe de Revisión por la Dirección del SIG 2025.
F38: 3 | G38: Acta del CIGD en la que se presentó y aprobó la revisión por la Dirección.
F39: 4 | G39: Procedimiento DES-PC-04 – Formulación, seguimiento y actualización del PEI.
F40: 5 | G40: Informes de seguimiento al PEI.
F41: 6 | G41: Informes de segunda línea de defensa del PEI y de indicadores.
F42: 7 | G42: Seguimientos trimestrales al PAI.
F43: 8 | G43: Informe OCI de seguimiento a la implementación del MIPG 2026.
F44: 9 | G44: Soportes de las decisiones y acciones derivadas de objetivos con bajo nivel de avance.
B49: Lineamiento 7: Identificación y análisis de riesgos (Analiza factores internos y externos; Implica a los niveles apropiados de la dirección; Determina cómo responder a los riesgos; Determina la importancia de los riesgos). | C49: DIMENSIÓN O POLÍTICA DEL MIPG ASOCIADA AL REQUERIMIENTO | D49: Explicación de cómo la Entidad evidencia que está dando respuesta al requerimiento Referencia a Procesos, Manuales/Políticas de Operación/Procedimientos/Instructivos u otros desarrollos que den cuente de su aplicación | E49: Presente (1/2/3) | F49: EVIDENCIA DEL CONTROL | I49: Funcionando (1/2/3) | J49: Evaluación
F50: No. | G50: Referencia a Análisis y verificaciones en el marco del Comité Institucional de Coordinación de Control Interno | H50: Observaciones de la evaluación independiente (tener encuentra papel de líneas de defensa)
A52: =+LEFT(B52,3) -> 7.1 | B52: 7.1 Teniendo en cuenta la estructura de la política de Administración del Riesgo, su alcance define lineamientos para toda la entidad, incluyendo regionales, áreas tercerizadas u otras instancias que afectan la prestación del servicio. | C52: Dimensión de Direccionamiento Estratégico y Planeación. Política de Planeación Institucional | D52: LA UAESP cuenta con la "Política de Administración del Riesgo - actualizada en Noviembre 2025", documento que actualiza la política de administración del riesgo de la UAESP, teniendo en cuenta los lineamientos de la guía emitida por el Departamento Administrativo de la Función Pública (DAFP), Adicionalmente en su alcance define los lineamientos de aplicación para toda la Entidad. Informes de monitoreo de riesgos segunda y evaluación de tercera línea de defensa. | E52: 3 | F52: 1 | G52: Politica de administración de riesgos | H52: La UAESP cuenta con una Política de Administración del Riesgo actualizada en noviembre de 2025, elaborada conforme a los lineamientos de la Guía para la Gestión Integral del Riesgo, versión 7 del DAFP. La política establece que su alcance comprende todos los procesos, niveles y sedes de la entidad y define lineamientos para la identificación, análisis, valoración, tratamiento, monitoreo y evaluación de las diferentes tipologías de riesgo. Durante el periodo evaluado se evidenció su aplicación mediante los reportes y monitoreos efectuados por la primera y segunda líneas de defensa y la auditoría realizada por la Oficina de Control Interno al Mapa y Plan de Manejo de Riesgos y Oportunidades, la cual comprendió todas las dependencias y procesos de la UAESP. | I52: 3 | J52: =+IF(OR(ISBLANK(E52),ISBLANK(I52)),"",IF(OR(AND(E52=1,I52=1),AND(E52=1,I52=2),AND(E52=1,I52=3)),"Deficiencia de control mayor (diseño y ejecución)",IF(OR(AND(E52=2,I52=2),AND(E52=3,I52=1),AND(E52=3,I52=2),AND(E52=2,I52=1)),"Deficiencia de control (diseño o ejecución)",IF(AND(E52=2,I52=3),"Oportunidad de mejora","Mantenimiento del control")))) -> Mantenimiento del control | K52: =+IF(J52="",75,IF(J52="Deficiencia de control mayor (diseño y ejecución)",80,IF(J52="Deficiencia de control (diseño o ejecución)",100,IF(J52="Oportunidad de mejora",120,140)))) -> 140 | L52: 2.0896 | M52: =+K52+L52 -> 142.0896
F53: 2 | G53: SEGUIMIENTO A RIESGOS 2026
F54: 3 | G54: Monitoreos segunda linea de defensa PAYS Y RIESGOS
F55: 4
F56: 5
F57: 6
A61: =+LEFT(B61,3) -> 7.2 | B61: 7.2 La Oficina de Planeación, Gerencia de Riesgos (donde existan), como 2a línea de defensa, consolidan información clave frente a la gestión del riesgo. | C61: Dimensión Control Interno Líneas de Defensa | D61: La segunda línea de defensa compiló y publicó los mapas de riesgo Institucional y de Corrupción de cada proceso. En cumplimiento de lo establecido en la Política de Administración de Riesgo generó el Informe de monitoreo a la gestión del riesgo en la vigencia 2025 el cual se remitió a los responsables de los procesos, en aras de tomar acciones que permitan fortalecer la administración del Riesgo en la Entidad. La tercera Línea de Defensa realiza Evaluaciones cuatrimestrales las cuales están publicadas en la Pagina web institucional: https://www.uaesp.gov.co/transparencia/control/otros-informes-control-interno Las actualizaciones generadas a los Mapas de Riesgos Institucional y de corrupción se realizaron en el marco de mesas de trabajo integradas por los colaboradores de cada proceso con la asesoría de la Oficina Asesora de Planeación y el acompañamiento de la Oficina de Control Interno. Estos informes se encuentran publicados en la Intranet y la Pagina Web de la Empresa Link: https://www.renobo.com.co/transparencia/planeacion-presupuesto-e-informes/plan-de-accion | E61: 3 | F61: 1 | G61: Politica de administración de riesgos | H61: La Política de Administración del Riesgo asigna a la Oficina Asesora de Planeación, como segunda línea de defensa, la responsabilidad de orientar metodológicamente a los procesos, revisar la formulación de riesgos y controles, efectuar seguimiento a su ejecución, consolidar la información institucional y presentar los resultados a la Alta Dirección. Durante el primer trimestre de 2026 se evidenció la elaboración del Informe de Seguimiento de Segunda Línea de Defensa, mediante el cual la OAP consolidó y analizó la información de los 16 procesos de la entidad, correspondiente a los riesgos de gestión, integridad pública, fiscales, de seguridad de la información y de desastre. El informe identificó 57 riesgos y presentó el seguimiento a los controles, acciones y oportunidades, así como alertas relacionadas con la calidad, suficiencia y coherencia de las evidencias aportadas por algunos procesos. La información consolidada fue presentada ante el Comité Institucional de Gestión y Desempeño y utilizada por la Oficina de Control Interno como insumo para la evaluación independiente con corte al 30 de abril de 2026. | I61: 2 | J61: =+IF(OR(ISBLANK(E61),ISBLANK(I61)),"",IF(OR(AND(E61=1,I61=1),AND(E61=1,I61=2),AND(E61=1,I61=3)),"Deficiencia de control mayor (diseño y ejecución)",IF(OR(AND(E61=2,I61=2),AND(E61=3,I61=1),AND(E61=3,I61=2),AND(E61=2,I61=1)),"Deficiencia de control (diseño o ejecución)",IF(AND(E61=2,I61=3),"Oportunidad de mejora","Mantenimiento del control")))) -> Deficiencia de control (diseño o ejecución) | K61: =+IF(J61="",75,IF(J61="Deficiencia de control mayor (diseño y ejecución)",80,IF(J61="Deficiencia de control (diseño o ejecución)",100,IF(J61="Oportunidad de mejora",120,140)))) -> 100 | L61: 2.1456 | M61: =+K61+L61 -> 102.1456
F62: 2 | G62: Administracion de Riesgos 2025. - OAP
F63: 3 | G63: Seguimiento segunda linea de defensa PAYS Y RIESGOS
F64: 4 | G64: publicacion riesgos transparencia
F65: 5 | G65: Actas CIGD 2026
...

Sheet Actividades de control
E15: ACTIVIDADES DE CONTROL
E16: La entidad define y desarrolla actividades de control que contribuyen a la mitigación de los riesgos hasta niveles aceptables para la consecución de los objetivos estratégicos y de proceso. Implementa políticas de operación mediante procedimientos u otros mecanismos que den cuenta de su aplicación en el día a día de las operaciones.
D18: ID | E18: Lineamiento 10: Diseño y desarrollo de actividades de control (Integra el desarrollo de controles con la evaluación de riesgos; tiene en cuenta a qué nivel se aplican las actividades; facilita la segregación de funciones). | F18: DIMENSIÓN O POLÍTICA DEL MIPG ASOCIADA AL REQUERIMIENTO | G18: Explicación de cómo la Entidad evidencia que está dando respuesta al requerimiento Referencia a Procesos, Manuales/Políticas de Operación/Procedimientos/Instructivos u otros desarrollos que den cuente de su aplicación | H18: Presente (1/2/3) | I18: EVIDENCIA DEL CONTROL | L18: Funcionando (1/2/3) | M18: Evaluación
I19: No. | J19: Referencia a Análisis y verificaciones en el marco del Comité Institucional de Coordinación de Control Interno | K19: Observaciones de la evaluación independiente (tener encuentra papel de líneas de defensa)
A20: # | B20: AUDITOR | C20: PROCESO AUDITADO
