Workbook
Name incBuyerDossierDetaillnkRequestName: PRINCIPAL!$L$46
Name lnkContractReferenceLink_1: PRINCIPAL!$G$52
Name lnkProcurementContractViewLinkNewTab_0: PRINCIPAL!$M$263

Sheet DATOS
A3: Etiquetas de fila | B3: Cuenta de NOMBRE O RAZON SOCIAL (CONTRATISTA)
A4: 2 Selección abreviada | B4: 2
A5: Selección Abreviada de Menor Cuantia sin Manifestacion de Interés | B5: 1
A6: Selección abreviada menor cuantía | B6: 1
A7: 5 Contratación directa | B7: 407
A8: ARRENDAMIENTO DE INMUEBLES | B8: 1
A9: PRESTACION DE SERVICIOS DE APOYO | B9: 1
A10: PRESTACION DE SERVICIOS DE APOYO | B10: 70
A11: PRESTACION DE SERVICIOS DE APOYO A LA GESTIÓN | B11: 1
A12: PRESTACIÓN DE SERVICIOS DE APOYO A LA GESTIÓN | B12: 7
A13: PRESTACION DE SERVICIOS PROFESIONALES | B13: 196
A14: PRESTACIÓN DE SERVICIOS PROFESIONALES | B14: 108
A15: Servicios de apoyo a la gestión | B15: 1
... A19: Total general | B19: 409

Sheet PRINCIPAL
A1: N° | B1: NO CONTRATO | C1: FECHA DE SOLICITUD | D1: CLASE DE CONTRATO | E1: TIPO DE CONTRATO (MINUTA) | F1: Descripcion Mod. Selec | G1: NO. DE PROCESO | H1: CODIGO UNSPSC | I1: LINK DE PUBLICACIÓN | J1: ESTADO | K1: TIPO DE GASTO | L1: OBJETO | M1: NOMBRE O RAZON SOCIAL (CONTRATISTA) | N1: VALOR INICIAL | O1: VALOR MENSUAL PAGADO | P1: IVA | Q1: CANTIDAD DE PAGOS | R1: VALOR TOTAL | S1: DEPENDENCIA
A2: 1 | B2: UAESP-01-2026 | C2: 46029 | D2: 31 31-Servicios Profesionales | E2: PRESTACION DE SERVICIOS PROFESIONALES | F2: 5 Contratación directa | G2: UAESP-01-2026 | H2: 80111600 | I2: https://community.secop.gov.co/Public/Tendering/ContractNoticePhases/View?PPI=CO1.PPI.44457224&isFromPublicArea=True&isModal=False | J2: EN EJECUCION | K2: 1 1. Inversión | L2: SAL-045 Brindar asesoría jurídica especializada integral a la Subdirección de Asuntos Legales en temas de contratación estatal y derecho público, así como brindar transferencia de conocimiento a las distintas áreas de la UAESP en materia contractual. | M2: UNIO-CCA | N2: 210600000 | O2: =N2/Q2 -> 21060000 | Q2: 10 | R2: =N2 -> 210600000 | S2: SUBDIRECCION DE ASUNTOS LEGALES-SAL
A3: 2 | B3: UAESP-02-2026 | C3: 46028 | D3: 31 31-Servicios Profesionales | E3: PRESTACION DE SERVICIOS PROFESIONALES | F3: 5 Contratación directa | G3: UAESP-02-2026 | H3: 80111600 | I3: https://community.secop.gov.co/Public/Tendering/ContractNoticePhases/View?PPI=CO1.PPI.44458122&isFromPublicArea=True&isModal=False | J3: EN EJECUCION | K3: 2 2. Funcionamiento | L3: SAL-001 Brindar servicios profesionales de asesoría jurídica transversal a la subdirección de asuntos legales de la UAESP, en los asuntos que le competen a la mencionada subdirección | M3: BEATRIZ EUGENIA LONDONO HERNANDEZ | N3: 168480000 | O3: =N3/10 -> 16848000 | Q3: 10 | R3: =N3 -> 168480000 | S3: SUBDIRECCION DE ASUNTOS LEGALES-SAL
A4: 3 | B4: UAESP-03-2026 | C4: 46028 | D4: 31 31-Servicios Profesionales | E4: PRESTACION DE SERVICIOS PROFESIONALES | F4: 5 Contratación directa | G4: UAESP-03-2026 | H4: 80111600 | I4: https://community.secop.gov.co/Public/Tendering/ContractNoticePhases/View?PPI=CO1.PPI.44458195&isFromPublicArea=True&isModal=False | J4: EN EJECUCION | K4: 3 1. Inversión | L4: SAL-002 Brindar los servicios profesionales a la Subdirección de Asuntos Legales brindando asesoría y acompañamiento en los procesos de selección y contratación en general, específicamente en lo que concierne a las etapas precontractuales, contractuales y postcontractuales conforme las necesidades y requerimientos solicitados por las diferentes dependencias de la Unidad Administrativa Especial de Servicios Públicos. | M4: YULIETH CAROLINA BEJARANO PINZON | N4: 157950000 | O4: =N4/10 -> 15795000 | Q4: 10 | R4: =N4 -> 157950000 | S4: SUBDIRECCION DE ASUNTOS LEGALES-SAL
A5: 4 | B5: UAESP-04-2026 | C5: 46029 | D5: 31 31-Servicios Profesionales | E5: PRESTACION DE SERVICIOS PROFESIONALES | F5: 5 Contratación directa | G5: UAESP-04-2026 | H5: 80161500 | I5: https://community.secop.gov.co/Public/Tendering/ContractNoticePhases/View?PPI=CO1.PPI.44455592&isFromPublicArea=True&isModal=False | J5: EN EJECUCION | K5: 4 1. Inversión | L5: SDF-001 Prestar servicios profesionales para apoyar en la gestión, estructuración y análisis de información geográfica, así como en el desarrollo de herramientas tecnológicas para la captura y visualización de datos mediante el uso de herramientas SIG | M5: Cristian Leonardo Pineda Vargas | N5: 107000000 | O5: =N5/10 -> 10700000 | Q5: 10 | R5: =N5 -> 107000000 | S5: SUBDIRECCION DE DISPOSICION FINAL-SDF
A6: 5 | B6: UAESP-07-2026 | C6: 46031 | D6: 31 31-Servicios Profesionales | E6: PRESTACION DE SERVICIOS PROFESIONALES | F6: 5 Contratación directa | G6: UAESP-07-2026 | H6: 80111600 | I6: https://www.secop.gov.co/CO1ContractsManagement/Tendering/ProcurementContractEdit/View?docUniqueIdentifier=CO1.PCCNTR.8780912&prevCtxUrl=https%3a%2f%2fwww.secop.gov.co%3a443%2fCO1ContractsManagement%2fTendering%2fProcurementContractManagement%2fIndex&prevCtxLbl=Contratos+ | J6: EN EJECUCION | K6: 2 2. Funcionamiento | L6: SAL-047 Brindar servicios profesionales especializados de asesoría jurídica y regulatoria a la Unidad Administrativa Especial de Servicios Públicos - UAESP, con el fin de apoyar el fortalecimiento de su gestión institucional, contractual y normativa en materia de servicios públicos domiciliarios y actividades complementarias de su competencia | M6: SNE ABOGADOS SAS | N6: 225552600 | O6: =N6/Q6 -> 22555260 | Q6: 10 | R6: =N6 -> 225552600 | S6: SUBDIRECCION DE ASUNTOS LEGALES-SAL
A7: 6 | B7: UAESP-08-2026 | C7: 46030 | D7: 31 31-Servicios Profesionales | E7: PRESTACION DE SERVICIOS PROFESIONALES | F7: 5 Contratación directa | G7: UAESP-08-2026 | H7: 80161500 | I7: https://www.secop.gov.co/CO1ContractsManagement/Tendering/ProcurementContractEdit/Update?ProfileName=CCE-16-Servicios_profesionales_gestion&PPI=CO1.PPI.44473850&DocUniqueName=ContratoDeCompra&DocTypeName=NextWay.Entities.Marketplace.Tendering.ProcurementContract&ProfileVersion=8&DocUniqueIdentifier=CO1.PCCNTR.8782210&prevCtxUrl=https%3a%2f%2fwww.secop.gov.co%3a443%2fCO1ContractsManagement%2fTendering%2fProcurementContractManagement%2fIndex&prevCtxLbl=Contratos+ | J7: EN EJECUCION | K7: 2 2. Funcionamiento | L7: SDF 035 Prestar servicios profesionales a la Subdirección de Disposición Final, en el seguimiento a las obligaciones ambientales del componente lixiviados a cargo de CGR, Inter DJ y UAESP | M7: MARIA CATALINA CRUZ RICO | N7: 56000000 | O7: =N7/Q7 -> 8000000 | Q7: 7 | R7: =N7 -> 56000000 | S7: SUBDIRECCION DE DISPOSICION FINAL-SDF
A8: 7 | B8: UAESP-09-2026 | C8: 46029 | D8: 31 31-Servicios Profesionales | E8: PRESTACION DE SERVICIOS PROFESIONALES | F8: 5 Contratación directa | G8: UAESP-09-2026 | H8: 80161500 | I8: https://www.secop.gov.co/CO1ContractsManagement/Tendering/ProcurementContractEdit/Update?ProfileName=CCE-16-Servicios_profesionales_gestion&PPI=CO1.PPI.44476130&DocUniqueName=ContratoDeCompra&DocTypeName=NextWay.Entities.Marketplace.Tendering.ProcurementContract&ProfileVersion=8&DocUniqueIdentifier=CO1.PCCNTR.8783313&prevCtxUrl=https%3a%2f%2fwww.secop.gov.co%3a443%2fCO1ContractsManagement%2fTendering%2fProcurementContractManagement%2fIndex&prevCtxLbl=Contratos+ | J8: EN EJECUCION | K8: 1 1. Inversión | L8: SSF-002 Prestar los servicios profesionales a la Subdirección de Servicios Funerarios y Alumbrado Público, de seguimiento y control al componente técnico y operativo de la prestación de los servicios funerarios en los equipamientos propiedad del Distrito. | M8: ANA LORENA ORTIZ MEJIA | N8: 99000000 | O8: =N8/Q8 -> 9000000 | Q8: 11 | R8: =N8 -> 99000000 | S8: SUBDIRECCION DE SERVICIOS FUNERARIOS Y ALUMBRADO PUBLICO-SSFAP
A9: 8 | B9: UAESP-10-2026 | C9: 46030 | D9: 33 33-Servicios Apoyo a la Gestion de la Entidad (servicios administrativos) | E9: PRESTACION DE SERVICIOS DE APOYO | F9: 5 Contratación directa | G9: UAESP-10-2026 | H9: 80161500 | I9: https://community.secop.gov.co/Public/Tendering/ContractNoticePhases/View?PPI=CO1.PPI.44479911&isFromPublicArea=True&isModal=False | J9: EN EJECUCION | K9: 2 2. Funcionamiento | L9: SDF-034 Prestar servicios de apoyo a la gestión de la Subdirección de Disposición Final, en actividades administrativas y documentales | M9: NIXON DIAZ CISNEROS | N9: 24500000 | O9: =N9/Q9 -> 3500000 | Q9: 7 | R9: =N9 -> 24500000 | S9: SUBDIRECCION DE DISPOSICION FINAL-SDF
A10: 9 | B10: UAESP-11-2026 | C10: 46030 | D10: 31 31-Servicios Profesionales | E10: PRESTACION DE SERVICIOS PROFESIONALES | F10: 5 Contratación directa | G10: UAESP-11-2026 | H10: 80161500 | I10: https://community.secop.gov.co/Public/Tendering/ContractNoticePhases/View?PPI=CO1.PPI.44480446&isFromPublicArea=True&isModal=False | J10: EN EJECUCION | K10: 2 2. Funcionamiento | L10: SDF-005 Prestar servicios profesionales para apoyar técnicamente el seguimiento a la operación del sistema de disposición final y proyectos piloto de valorización de residuos, a partir del análisis de variables fisicoquímicas y ambientales | M10: ANDREA OTERO MOJICA | N10: 78000000 | O10: =N10/Q10 -> 7800000 | Q10: 10 | R10: =N10 -> 78000000 | S10: SUBDIRECCION DE DISPOSICION FINAL-SDF
A11: 10 | B11: UAESP-12-2026 | C11: 46029 | D11: 31 31-Servicios Profesionales | E11: PRESTACION DE SERVICIOS PROFESIONALES | F11: 5 Contratación directa | G11: UAESP-12-2026 | H11: 80161500 | I11: https://community.secop.gov.co/Public/Tendering/ContractNoticePhases/View?PPI=CO1.PPI.44489263&isFromPublicArea=True&isModal=False | J11: EN EJECUCION | K11: 1 1. Inversión | L11: SDF-004 Prestar servicios profesionales para apoyar técnicamente la formulación de estrategias relacionadas con la gestión integral de residuos sólidos, economía circular y sostenibilidad, así como el seguimiento a las condiciones de operación y transformación del Parque de Innovación doña Juana | M11: DANIEL BOCANEGRA RINCON | N11: 126000000 | O11: =N11/Q11 -> 14000000 | Q11: 9 | R11: =N11 -> 126000000 | S11: SUBDIRECCION DE DISPOSICION FINAL-SDF
A12: 11 | B12: UAESP-14-2026 | C12: 46029 | D12: 31 31-Servicios Profesionales | E12: PRESTACION DE SERVICIOS PROFESIONALES | F12: 5 Contratación directa | G12: UAESP-14-2026 | H12: 80161500 | I12: https://community.secop.gov.co/Public/Tendering/ContractNoticePhases/View?PPI=CO1.PPI.44486052&isFromPublicArea=True&isModal=False | J12: EN EJECUCION | K12: 1 1. Inversión | L12: SDF-036 Prestar servicios profesionales para el apoyo en el seguimiento del sistema integrado de gestión calidad de la Subdirección de Disposición Final | M12: ADRIANA ORJUELA | N12: 56000000 | O12: =N12/Q12 -> 8000000 | Q12: 7 | R12: =N12 -> 56000000 | S12: SUBDIRECCION DE DISPOSICION FINAL-SDF
A13: 12 | B13: UAESP-15-2026 | C13: 46029 | D13: 31 31-Servicios Profesionales | E13: PRESTACION DE SERVICIOS PROFESIONALES | F13: 5 Contratación directa | G13: UAESP-15-2026 | H13: 80161500 | I13: https://community.secop.gov.co/Public/Tendering/ContractNoticePhases/View?PPI=CO1.PPI.44480427&isFromPublicArea=True&isModal=False | J13: EN EJECUCION | K13: 1 1. Inversión | L13: SDF-017 Prestar servicios profesionales a la Subdirección de Disposición final en el seguimiento de las obligaciones ambientales a cargo de la interventoría, la concesión de disposición final, de biogás y las que se encuentran a cargo de la UAESP | M13: AURA CRISTINA GARCIA | N13: 59500000 | O13: =N13/Q13 -> 8500000 | Q13: 7 | R13: =N13 -> 59500000 | S13: SUBDIRECCION DE DISPOSICION FINAL-SDF
A14: 13 | B14: UAESP-16-2026 | C14: 46029 | D14: 31 31-Servicios Profesionales | E14: PRESTACION DE SERVICIOS PROFESIONALES | F14: 5 Contratación directa | G14: UAESP-16-2026 | H14: 80161500 | I14: https://community.secop.gov.co/Public/Tendering/ContractNoticePhases/View?PPI=CO1.PPI.44482740&isFromPublicArea=True&isModal=False | J14: EN EJECUCION | K14: 1 1. Inversión | L14: SDF-003 Prestar servicios profesionales en el seguimiento y evaluación de planes, programas e instrumentos de planeación, e instrumentos ambientales relacionados con la Subdirección de Disposición Final | M14: CARLOS GEOVANNY BORDA | N14: 84000000 | O14: =N14/Q14 -> 12000000 | Q14: 7 | R14: =N14 -> 84000000 | S14: SUBDIRECCION DE DISPOSICION FINAL-SDF
A15: 14 | B15: UAESP-17-2026 | C15: 46030 | D15: 31 31-Servicios Profesionales | E15: PRESTACION DE SERVICIOS PROFESIONALES | F15: 5 Contratación directa | G15: UAESP-17-2026 | H15: 80161500 | I15: https://community.secop.gov.co/Public/Tendering/ContractNoticePhases/View?PPI=CO1.PPI.44496102&isFromPublicArea=True&isModal=False | J15: EN EJECUCION | K15: 2 2. Funcionamiento | L15: SDF-009 Prestar servicios profesionales a la Subdirección de Disposición Final en el seguimiento a las actividades operativas del Parque de Innovación Doña Juana (PIDJ) | M15: Andrés Gerardo Castañeda Camargo | N15: 96000000 | O15: =N15/Q15 -> 12000000 | Q15: 8 | R15: =N15 -> 96000000 | S15: SUBDIRECCION DE DISPOSICION FINAL-SDF
A16: 15 | B16: UAESP-18-2026 | C16: 46030 | D16: 33 33-Servicios Apoyo a la Gestion de la Entidad (servicios administrativos) | E16: PRESTACION DE SERVICIOS DE APOYO | F16: 5 Contratación directa | G16: UAESP-18-2026 | H16: 80111600 | I16: https://community.secop.gov.co/Public/Tendering/ContractNoticePhases/View?PPI=CO1.PPI.44503824&isFromPublicArea=True&isModal=False | J16: EN EJECUCION | K16: 1 1. Inversión | L16: SAL-031 Brindar servicios de apoyo a la gestión en actividades administrativas y operativas a la Subdirección de Asuntos Legales de la Unidad Administrativa Especial de Servicios públicos - UAESP, con el fin de apoyar los requerimientos y gestión de los grupos de la Subdirección, y de los sistemas de información de la misma. | M16: THOMAS FELIPE RONCANCIO VILLARREAL | N16: 42120000 | O16: =N16/Q16 -> 4212000 | Q16: 10 | R16: =N16 -> 42120000 | S16: SUBDIRECCION DE ASUNTOS LEGALES-SAL
A17: 16 | B17: UAESP-19-2026 | C17: 46031 | D17: 31 31-Servicios Profesionales | E17: PRESTACION DE SERVICIOS PROFESIONALES | F17: 5 Contratación directa | G17: UAESP-19-2026. | H17: 80161500 | I17: https://community.secop.gov.co/Public/Tendering/ContractNoticePhases/View?PPI=CO1.PPI.44509430&isFromPublicArea=True&isModal=False | J17: EN EJECUCION | K17: 1 1. Inversión | L17: SDF-009 Prestar servicios profesionales a la Subdirección de Disposición Final en el seguimiento a las actividades operativas del Parque de Innovación Doña Juana (PIDJ) | M17: EDGAR FERNANDO VARGAS BUITRADO | N17: 87343137 | O17: =N17/Q17 -> 8734313.7 | Q17: 10 | R17: =N17 -> 87343137 | S17: OFICINA DE TECNOLOGIAS DE LA INFORMACION Y LAS COMUNICACIONES-TICS
A18: 17 | B18: UAESP-20-2026 | C18: 46031 | D18: 31 31-Servicios Profesionales | E18: PRESTACION DE SERVICIOS PROFESIONALES | F18: 5 Contratación directa | G18: UAESP-20-2026 | H18: 80161500 | I18: https://community.secop.gov.co/Public/Tendering/ContractNoticePhases/View?PPI=CO1.PPI.44519358&isFromPublicArea=True&isModal=False | J18: EN EJECUCION | K18: 2 2. Funcionamiento | L18: SDF-008 Prestar servicios profesionales para la estructuración, evaluación y seguimiento de planes, programas y proyectos asociados a la gestión de residuos a cargo de la Subdirección de Disposición Final. | M18: MARIA ELENA DIAZ ARIAS | N18: 66500000 | O18: =N18/Q18 -> 9500000 | Q18: 7 | R18: =N18 -> 66500000 | S18: SUBDIRECCION DE DISPOSICION FINAL-SDF
A19: 18 | B19: UAESP-21-2026 | C19: 46031 | D19: 31 31-Servicios Profesionales | E19: PRESTACION DE SERVICIOS PROFESIONALES | F19: 5 Contratación directa | G19: UAESP-21-2026 | H19: 80161500 | I19: https://community.secop.gov.co/Public/Tendering/ContractNoticePhases/View?PPI=CO1.PPI.44523334&isFromPublicArea=True&isModal=False | J19: EN EJECUCION | K19: 2 2. Funcionamiento | L19: RBL-002 Prestar servicios profesionales a la Subdirección de Recolección, Barrido y Limpieza de la UAESP, mediante la coordinación, seguimiento y ejecución de actividades relacionadas al componente jurídico y en especial en aquellos asuntos relacionados con la prestación del servicio público de aseo en la ciudad de Bogotá. | M19: MAYRA ALEJANDRA CHIA VARGAS | N19: 150000000 | O19: =N19/Q19 -> 12500000 | Q19: 12 | R19: =N19 -> 150000000 | S19: SUBDIRECCION DE RECOLECCION, BARRIDO Y LIMPIEZA-RBL
A20: 19 | B20: UAESP-22-2026 | C20: 46035 | D20: 33 33-Servicios Apoyo a la Gestion de la Entidad (servicios administrativos) | E20: PRESTACION DE SERVICIOS DE APOYO | F20: 5 Contratación directa | G20: UAESP-22-2026 | H20: 80161500 | I20: https://community.secop.gov.co/Public/Tendering/ContractNoticePhases/View?PPI=CO1.PPI.44521037&isFromPublicArea=True&isModal=False | J20: EN EJECUCION | K20: 2 2. Funcionamiento | L20: SDF-014 Prestar servicios de apoyo a la gestión de control y mantenimiento de predios cargo de la UAESP." | M20: FELIX ALBERTO PINZON MON TOYA | N20: 45000000 | O20: =N20/Q20 -> 4500000 | Q20: 10 | R20: =N20 -> 45000000 | S20: SUBDIRECCION DE DISPOSICION FINAL-SDF
A21: 20 | B21: UAESP-23-2026 | C21: 46031 | D21: 31 31-Servicios Profesionales | E21: PRESTACION DE SERVICIOS PROFESIONALES | F21: 5 Contratación directa | G21: UAESP-23-2026 | H21: 80161500 | I21: https://community.secop.gov.co/Public/Tendering/ContractNoticePhases/View?PPI=CO1.PPI.44521498&isFromPublicArea=True&isModal=False | J21: EN EJECUCION | K21: 2 2. Funcionamiento | L21: SDF 011 Prestar servicios profesionales en la formulación y ejecución de las actividades de tratamiento y valorización de residuos a cargo de la SDF, y apoyar en el seguimiento a la licencia ambiental del relleno sanitario Doña Juana | M21: STHEPANIE ROMAN PARDO | N21: 58800000 | O21: =N21/Q21 -> 8400000 | Q21: 7 | R21: =N21 -> 58800000 | S21: SUBDIRECCION DE DISPOSICION FINAL-SDF
A22: 21 | B22: UAESP-24-2026 | C22: 46030 | D22: 31 31-Servicios Profesionales | E22: PRESTACION DE SERVICIOS PROFESIONALES | F22: 5 Contratación directa | G22: UAESP-24-2026 | H22: 80161500 | I22: https://community.secop.gov.co/Public/Tendering/ContractNoticePhases/View?PPI=CO1.PPI.44510655&isFromPublicArea=True&isModal=False | J22: EN EJECUCION | K22: 1 1. Inversión | L22: RBL-008 Prestar los servicios profesionales realizando la gestión administrativa y de planeación de la Subdirección de Recolección Barrido y Limpieza con el fin de dar cumplimiento a las actividades de seguimiento y control del servicio público de aseo | M22: LESLIE PAMELA SERRANO ARTUNDUAGA | N22: 96000000 | O22: =N22/Q22 -> 8000000 | Q22: 12 | R22: =N22 -> 96000000 | S22: SUBDIRECCION DE RECOLECCION, BARRIDO Y LIMPIEZA-RBL
A23: 22 | B23: UAESP-25-2026 | C23: 46031 | D23: 31 31-Servicios Profesionales | E23: PRESTACION DE SERVICIOS PROFESIONALES | F23: 5 Contratación directa | G23: UAESP-25-2026 | H23: 80161500 | I23: https://community.secop.gov.co/Public/Tendering/ContractNoticePhases/View?PPI=CO1.PPI.44510251&isFromPublicArea=True&isModal=False | J23: EN EJECUCION | K23: 1 1. Inversión | L23: SDF007 Prestar servicios profesionales a la subdirección de Disposición Final en la planeación y gestión de la dependencia, así como en los asuntos financieros, tarifarios, regulatorios. | M23: Oswaldo Alfonso Arias Rodríguez | N23: 84000000 | O23: =N23/Q23 -> 12000000 | Q23: 7 | R23: =N23 -> 84000000 | S23: SUBDIRECCION DE DISPOSICION FINAL-SDF
A24: 23 | B24: UAESP-26-2026 | C24: 46031 | D24: 31 31-Servicios Profesionales | E24: PRESTACION DE SERVICIOS PROFESIONALES | F24: 5 Contratación directa | G24: UAESP-26-2026 | H24: 80161500 | I24: https://community.secop.gov.co/Public/Tendering/ContractNoticePhases/View?PPI=CO1.PPI.44511548&isFromPublicArea=True&isModal=False | J24: EN EJECUCION | K24: 1 1. Inversión | L24: RBL-001 Prestar servicios profesionales a la Subdirección de Recolección, Barrido y Limpieza de la UAESP, mediante la coordinación, seguimiento y ejecución de actividades relacionadas al componente jurídico y en especial en aquellos asuntos relacionados con la prestación del servicio público de aseo en la ciudad de Bogotá | M24: JUAN PABLO CONDE MARTÍNEZ | N24: 150000000 | O24: =N24/Q24 -> 12500000 | Q24: 12 | R24: =N24 -> 150000000 | S24: SUBDIRECCION DE RECOLECCION, BARRIDO Y LIMPIEZA-RBL
A25: 24 | B25: UAESP-27-2026 | C25: 46031 | D25: 31 31-Servicios Profesionales | E25: PRESTACION DE SERVICIOS PROFESIONALES | F25: 5 Contratación directa | G25: UAESP-27-2026 | H25: 80161500 | I25: https://community.secop.gov.co/Public/Tendering/ContractNoticePhases/View?PPI=CO1.PPI.44511843&isFromPublicArea=True&isModal=False | J25: EN EJECUCION | K25: 1 1. Inversión | L25: SDF 032 Prestar servicios profesionales para el seguimiento, verificación y acompañamiento técnico a la ejecución del Plan de Gestión social, dentro del área de influencia del PIDJ. | M25: LILIANA NIÑO ROMERO | N25: 64400000 | O25: =N25/Q25 -> 9200000 | Q25: 7 | R25: =N25 -> 64400000 | S25: SUBDIRECCION DE DISPOSICION FINAL-SDF
... A59: 58 | B59: UAESP-184-2026 | C59: 46043 | D59: 31 31-Servicios Profesionales | E59: PRESTACION DE SERVICIOS PROFESIONALES | F59: 5 Contratación directa | G59: UAESP-184-2026 | H59: 80111600 | I59: https://community.secop.gov.co/Public/Tendering/ContractNoticePhases/View?PPI=CO1.PPI.45135125&isFromPublicArea=True&isModal=False | J59: FIRMADO | K59: 1 1. Inversión | L59: SA-033 Prestar servicios profesionales a la Subdirección de Aprovechamiento para apoyar las actividades administrativas y técnicas de las acciones relacionadas con el fortalecimiento de la actividad de aprovechamiento y sus prestadores. | M59: ALISON XIOMARA URRUTIA RAMIREZ | N59: 59100000 | O59: =N59/Q59 -> 7387500 | Q59: 8 | R59: =N59 -> 59100000 | S59: SUBDIRECCION DE APROVECHAMIENTO-SA
A60: 59 | B60: UAESP-62-2026 | C60: 46036 | D60: 31 31-Servicios Profesionales | E60: PRESTACION DE SERVICIOS PROFESIONALES | F60: 5 Contratación directa | G60: UAESP-62-2026 | H60: 82111900 86131504 83121700 | I60: https://community.secop.gov.co/Public/Tendering/ContractNoticePhases/View?PPI=CO1.PPI.44689803&isFromPublicArea=True&isModal=False | J60: EN EJECUCION | K60: 1 1. Inversión | L60: OACRI-003 Prestar servicios profesionales en los procesos de contractuales, de calidad y administrativos de la Oficina de Comunicaciones de la Unidad Administrativa Especial de Servicios Públicos (UAESP) | M60: ANGELA MARCELA CUESTAS IDROBO | N60: 95000000 | O60: =N60/Q60 -> 9500000 | Q60: 10 | R60: =N60 -> 95000000 | S60: OFICINA ASESORA DE COMUNICACIONES Y RELACIONES INTERINSTITUCIONALES-OACRI
A61: 60 | B61: UAESP-063-2026 | C61: 46036 | D61: 31 31-Servicios Profesionales | E61: PRESTACION DE SERVICIOS PROFESIONALES | F61: 5 Contratación directa | G61: UAESP-63-2026 | H61: 80111600 | I61: https://community.secop.gov.co/Public/Tendering/ContractNoticePhases/View?PPI=CO1.PPI.44700014&isFromPublicArea=True&isModal=False | J61: EN EJECUCION | K61: 1 1. Inversión | L61: SAL-034 Brindar los servicios profesionales a la Subdirección de Asuntos Legales desde el punto de vista jurídico para el trámite precontractual, contractual y postcontractual de procesos contratación que deban ser tramitados por la dependencia. | M61: Jualiana Mercedes Solano | N61: 94770000 | O61: =N61/Q61 -> 9477000 | Q61: 10 | R61: =N61 -> 94770000 | S61: SUBDIRECCION DE ASUNTOS LEGALES-SAL
A62: 61 | B62: UAESP-64-2026 | C62: 46036 | D62: 31 31-Servicios Profesionales | E62: PRESTACION DE SERVICIOS PROFESIONALES | F62: 5 Contratación directa | G62: UAESP-64-2026 | H62: 80161500 | I62: https://community.secop.gov.co/Public/Tendering/ContractNoticePhases/View?PPI=CO1.PPI.44716331&isFromPublicArea=True&isModal=False | J62: EN EJECUCION | K62: 1 1. Inversión | L62: TIC-003 Prestar servicios profesionales de desarrollo, soporte técnico, mantenimiento e implementación de nuevas funcionalidades en el sistema de información SICAPITAL en los módulos de PERNO, SAE, SAI y Terceros | M62: JOHN KENNEDY LEON CASTIBLANCO | N62: 95550000 | O62: =N62/Q62 -> 9555000 | Q62: 10 | R62: =N62 -> 95550000 | S62: OFICINA DE TECNOLOGIAS DE LA INFORMACION Y LAS COMUNICACIONES-TICS
A63: 62 | B63: UAESP-56-2026 | C63: 46036 | D63: 33 33-Servicios Apoyo a la Gestion de la Entidad (servicios administrativos) | E63: PRESTACION DE SERVICIOS DE APOYO | F63: 5 Contratación directa | G63: UAESP-56-2026 | H63: 80111600 | I63: https://community.secop.gov.co/Public/Tendering/ContractNoticePhases/View?PPI=CO1.PPI.44679513&isFromPublicArea=True&isModal=False | J63: FIRMADO | K63: 2 2. Funcionamiento | L63: SA-035 Prestar servicios de apoyo a la gestión a la Subdirección de Aprovechamiento, para apoyar las acciones técnicas, administrativas y de gestión en campo de las estrategias e iniciativas a cargo de la de pendencia dirigidas a la población recicladora de la ciudad. | M63: ANDREA ESTEFANIA PAEZ HERNANDEZ | N63: 66000000 | O63: =N63/Q63 -> 5500000 | Q63: 12 | R63: =N63 -> 66000000 | S63: SUBDIRECCION DE APROVECHAMIENTO-SA
A64: 63 | B64: UAESP-66-2026 | C64: 46038 | D64: 31 31-Servicios Profesionales | E64: PRESTACION DE SERVICIOS PROFESIONALES | F64: 5 Contratación directa | G64: UAESP-66-2026 | H64: 80111600 | I64: https://community.secop.gov.co/Public/Tendering/ContractNoticePhases/View?PPI=CO1.PPI.44840551&isFromPublicArea=True&isModal=False | J64: EN EJECUCION | K64: 1 1. Inversión | L64: SAL-053 Brindar servicios profesionales para adelantar las actividades jurídicas y contractuales requeridas en los procesos a cargo de la subdirección, para proyectar los requerimientos, actos administrativos y/o respuestas a las solicitudes de competencia del área, de acuerdo con la normatividad vigente. | M64: MARIA CAMILA RANGEL BARRAGÁN | N64: 105300000 | O64: =N64/Q64 -> 10530000 | Q64: 10 | R64: =N64 -> 105300000 | S64: SUBDIRECCION DE ASUNTOS LEGALES-SAL
A65: 64 | B65: UAESP-67-2026 | C65: 46036 | D65: 31 31-Servicios Profesionales | E65: PRESTACION DE SERVICIOS PROFESIONALES | F65: 5 Contratación directa | G65: UAESP-67-2026 | H65: 80161500 | I65: https://community.secop.gov.co/Public/Tendering/ContractNoticePhases/View?PPI=CO1.PPI.44716295&isFromPublicArea=True&isModal=False | J65: EN EJECUCION | K65: 1 1. Inversión | L65: RBL-026 Prestación de servicios profesionales a la Subdirección de Recolección, Barrido y Limpieza de la Unidad Administrativa Especial de Servicios Públicos, en los aspectos técnicos y administrativos para la revisión, implementación, seguimiento y planeación de los programas, proyectos y funciones a cargo del área; así como en la proyección de instrumentos técnicos y regulatorios del servicio público de aseo y la gestión de residuos, bajo la normatividad vigente | M65: Willy Alberto Zambrano Chavez | N65: 156000000 | O65: =N65/Q65 -> 13000000 | Q65: 12 | R65: =N65 -> 156000000 | S65: SUBDIRECCION DE RECOLECCION, BARRIDO Y LIMPIEZA-RBL
A66: 65 | B66: UAESP-68-2026 | C66: 46036 | D66: 31 31-Servicios Profesionales | E66: PRESTACION DE SERVICIOS PROFESIONALES | F66: 5 Contratación directa | G66: UAESP-68-2026 | H66: 80161500 | I66: https://community.secop.gov.co/Public/Tendering/ContractNoticePhases/View?PPI=CO1.PPI.44718383&isFromPublicArea=True&isModal=False | J66: EN EJECUCION | K66: 1 1. Inversión | L66: TIC 011 Prestar servicios profesionales en el desarrollo, soporte y mantenimiento de los portales y canales digitales de la Unidad Administrativa Especial de Servicios Públicos - UAESP. | M66: YHEISON JAVIER GAMBA RONCANCIO | N66: 87343137 | O66: =N66/Q66 -> 8734313.7 | Q66: 10 | R66: =N66 -> 87343137 | S66: OFICINA DE TECNOLOGIAS DE LA INFORMACION Y LAS COMUNICACIONES-TICS
A67: 66 | B67: UAESP-198-2026 | C67: 46044 | D67: 31 31-Servicios Profesionales | E67: PRESTACION DE SERVICIOS PROFESIONALES | F67: 5 Contratación directa | G67: UAESP-198-2026 | H67: 80111600 | I67: https://community.secop.gov.co/Public/Tendering/ContractNoticePhases/View?PPI=CO1.PPI.45165370&isFromPublicArea=True&isModal=False | J67: FIRMADO | K67: 1 1. Inversión | L67: SA-073 Prestar servicios profesionales a la Subdirección de Aprovechamiento para apoyar las actividades juridicas, administrativas y técnicas de las acciones relacionadas con el fortalecimiento de la actividad de aprovechamiento y sus prestadore | M67: ANDRES FELIPE JIMENEZ FANDIÑO | N67: 70920000 | O67: =N67/Q67 -> 7880000 | Q67: 9 | R67: =N67 -> 70920000 | S67: SUBDIRECCION DE APROVECHAMIENTO-SA
A68: 67 | B68: UAESP-194-2026 | C68: 46044 | D68: 31 31-Servicios Profesionales | E68: PRESTACION DE SERVICIOS PROFESIONALES | F68: 5 Contratación directa | G68: UAESP-194-2026 | H68: 80111600 | I68: https://community.secop.gov.co/Public/Tendering/ContractNoticePhases/View?PPI=CO1.PPI.45147505&isFromPublicArea=True&isModal=False | J68: FIRMADO | K68: 1 1. Inversión | L68: SA-027 Prestar servicios profesionales a la Subdirección de Aprovechamiento para apoyar las actividades administrativas y técnicas de las acciones relacionadas con el fortalecimiento de la actividad de aprovechamiento y sus prestadores. | M68: Angie Gualdron | N68: 55160000 | O68: =N68/Q68 -> 7880000 | Q68: 7 | R68: =N68 -> 55160000 | S68: SUBDIRECCION DE APROVECHAMIENTO-SA
A69: 68 | B69: UAESP-71-2026 | C69: 46036 | D69: 33 33-Servicios Apoyo a la Gestion de la Entidad (servicios administrativos) | E69: PRESTACION DE SERVICIOS DE APOYO | F69: 5 Contratación directa | G69: UAESP-71-2026 | H69: 80161500 | I69: https://community.secop.gov.co/Public/Tendering/ContractNoticePhases/View?PPI=CO1.PPI.44725026&isFromPublicArea=True&isModal=False | J69: EN EJECUCION | K69: 1 1. Inversión | L69: OCDI-001 PRESTACION SERVICIOS DE APOYO A LA GESTION EN LA OFICINA DE CONTROL DISCIPLINARIO INTERNO DE LA UAESP EN LA EJECUCION DE ACTIVIDADES ADMINISTRATIVAS RELACIONADAS CON LA RECEPCION E INGRESO DE QUEJAS, NOTICIAS DISCIPLINARIAS, PETICIONES Y SOLICITUDES, ELABORACION DE ACTAS, INFORMES, COMUNICACIONES Y CITACIONES REQUERIDAS Y ATENCION A REQUERIMIENTOS INTERNOS, AUDITORIAS Y VISITAS DE ENTES DE CONTROL | M69: MARÍA ALICIA SARMIENTO MARIN | N69: 72000000 | O69: =N69/Q69 -> 6000000 | Q69: 12 | R69: =N69 -> 72000000 | S69: OFICINA DE CONTROL INTERNO DISCIPLINARIO-OCDI
A70: 69 | B70: UAESP-83-2026 | C70: 46038 | D70: 33 33-Servicios Apoyo a la Gestion de la Entidad (servicios administrativos) | E70: PRESTACION DE SERVICIOS DE APOYO | F70: 5 Contratación directa | G70: UAESP-83-2026 | H70: 80111600 | I70: https://community.secop.gov.co/Public/Tendering/ContractNoticePhases/View?PPI=CO1.PPI.44836287&isFromPublicArea=True&isModal=False | J70: EN EJECUCION | K70: 1 1. Inversión | L70: SA-069 Prestar servicios de apoyo a la gestión en la Subdirección de Aprovechamiento, para desarrollar actividades operativas y administrativas que promuevan de forma oportuna el uso de los espacios asignados para la sepración de reciduos de la población carretera y recicladora | M70: BEYER LEONIDAS RESTREPO USECHE | N70: 37800000 | O70: =N70/Q70 -> 4200000 | Q70: 9 | R70: =N70 -> 37800000 | S70: SUBDIRECCION DE APROVECHAMIENTO-SA
A71: 70 | B71: UAESP-73-2026 | C71: 46036 | D71: 31 31-Servicios Profesionales | E71: PRESTACION DE SERVICIOS PROFESIONALES | F71: 5 Contratación directa | G71: UAESP-73-2026 | H71: 80111600 | I71: https://community.secop.gov.co/Public/Tendering/ContractNoticePhases/View?PPI=CO1.PPI.44742744&isFromPublicArea=True&isModal=False | J71: EN EJECUCION | K71: 1 1. Inversión | L71: SAL-051 Brindar servicios profesionales a la Subdirección de Asuntos Legales en el ámbito de la contratación estatal, con el objetivo de apoyar las fases precontractual, contractual y postcontractual de los procesos de contratación solicitados por las distintas dependencias de la Unidad Administrativa Especial de Servicios Públicos | M71: DANIELA HENAO TABORDA | N71: 105300000 | O71: =N71/Q71 -> 10530000 | Q71: 10 | R71: =N71 -> 105300000 | S71: SUBDIRECCION DE ASUNTOS LEGALES-SAL
A72: 71 | B72: UAESP-74-2026 | C72: 46036 | D72: 31 31-Servicios Profesionales | E72: PRESTACION DE SERVICIOS PROFESIONALES | F72: 5 Contratación directa | G72: UAESP-74-2026 | H72: 80111600 | I72: https://community.secop.gov.co/Public/Tendering/ContractNoticePhases/View?PPI=CO1.PPI.44747777&isFromPublicArea=True&isModal=False | J72: EN EJECUCION | K72: 1 1. Inversión | L72: SAL-015 Brindar servicios profesionales a la Subdirección de Asuntos Legales en el ámbito de la contratación estatal, con el objetivo de apoyar las fases precontractual, contractual y postcontractual de los procesos de contratación solicitados por las distintas dependencias de la Unidad Administrativa Especial de Servicios Públicos. | M72: ANA MARIA MANCIPE MONTENEGRO | N72: 105300000 | O72: =N72/Q72 -> 10530000 | Q72: 10 | R72: =N72 -> 105300000 | S72: SUBDIRECCION DE ASUNTOS LEGALES-SAL
... A94: 93 | B94: UAESP-97-2026 | C94: 46038 | D94: 33 33-Servicios Apoyo a la Gestion de la Entidad (servicios administrativos) | E94: PRESTACION DE SERVICIOS DE APOYO | F94: 5 Contratación directa | G94: UAESP-97-2026 | H94: 80161500 | I94: https://community.secop.gov.co/Public/Tendering/ContractNoticePhases/View?PPI=CO1.PPI.44952986&isFromPublicArea=True&isModal=False | J94: EN EJECUCION | K94: 1 1. Inversión | L94: RBL-014 Prestar los servicios de apoyo a la gestión y en temas administrativos de la Subdirección de RBL de la Unidad Administrativa Especial de Servicios Públicos - UAESP, mediante la gestión, manejo de correspondencia y/o requerimientos recibidas y producidas por la misma área a través del Sistema de Gestión Documental y/o sistemas que se definan para los trámites, relacionada con la prestación del servicio público de aseo | M94: JUAN MANUEL SIERRA PARDO | N94: 60000000 | O94: =N94/Q94 -> 5000000 | Q94: 12 | R94: =N94 -> 60000000 | S94: SUBDIRECCION DE RECOLECCION, BARRIDO Y LIMPIEZA-RBL
...

Sheet ITEMS
A1: Clase de Contrat0 | B1: MODALIDAD DE SELECCIÓN 2 | C1: TIPO PERSONA 3 | D1: TIPO CONFIGURACION 4 | E1: UNIDAD PLAZO DE EJECUCIÓN 5 | F1: TIPO DE GASTO 6 | G1: PROCEDIMIENTO | H1: REGIMEN DE CONTRATACION | I1: TIPO DE MODIFICACION | J1: GENERO | K1: DEPENDENCIA
A2: 10 10-Contrato de Obra | B2: 1 Licitación pública | C2: 1 1. Natural | D2: 1 1-Unión Temporal | E2: 1 1. Días | F2: 1 1. Inversión | G2: 1 1. Subasta Inversa | H2: 1 1. Ley 80 | I2: 1 1. Cesión | J2: Masculino | K2: DIRECCION GENERAL
A3: 21 21-Consultoría (Interventoría) | B3: 2 Selección abreviada | C3: 2 2. Jurídica | D3: 2 2-Consorcio | E3: 2 2. Meses | F3: 2 2. Funcionamiento | G3: 2 2. Menor cuantía | H3: 2 2. Privado | I3: 2 2. Adición | J3: Femenino | K3: OFICINA ASESORA DE COMUNICACIONES Y RELACIONES INTERINSTITUCIONALES-OACRI
A4: 22 22-Consultoría (Gerencia de Obra) | B4: 3 Concurso de méritos | D4: 3 3-Administradora Pública Cooperativa | E4: 3 3. Años | F4: 3 3. Servicio de la deuda | G4: 3 3. Concurso de méritos abiertos | H4: 3 3. Convenios Ley 489 | I4: 3 3. Prorroga | K4: OFICINA ASESORA DE PLANEACION-OAP
A5: 23 23-Consultoría (Gerencia de Proyecto) | B5: 4 Mínima cuantía | D5: 4 4-Otras Entidades de Economía Solidaria | E5: 4 4. Indeterminado | F5: 4 4. Otro | G5: 4 4. Concurso de méritos con precalificación | H5: 4 4. CP Art. 355 privadas sin ánimo de lucro | I5: 4 4. Adición / Prórroga | K5: OFICINA DE CONTROL INTERNO-OCI
A6: 24 24-Consultoría (Estudios y Diseños Tecnicos) | B6: 5 Contratación directa | D6: 5 5-Sociedad Anónima | G6: 5 5. Concurso de méritos con jurados | I6: 5 5. Anulación | K6: OFICINA DE TECNOLOGIAS DE LA INFORMACION Y LAS COMUNICACIONES-TICS
A7: 25 25-Consultoría (Estudios de Prefactibilidad y Factibilidad) | B7: 6 Contratación directa por Urgencia Manifiesta | D7: 6 6-Sociedad Ltda. | G7: 6 6. Otro | I7: 6 6. Renegociación por menor valor | K7: SUBDIRECCION ADMINISTRATIVA Y FINANCIERA-SAF
A8: 26 26-Consultoría (Asesoría Técnica) | B8: 7 Convocatoria pública | D8: 7 7-Sociedad Comandita Simple | I8: 7 7. Reinversión | K8: SUBDIRECCION DE APROVECHAMIENTO-SA
A9: 29 29-Consultoría (Otros) | B9: 8 Otra Regimen Especial | D9: 9 9-Fundación sin ánimo de lucro | K9: SUBDIRECCION DE ASUNTOS LEGALES-SAL
A10: 30 30-Servicios de Mantenimiento y/o Reparación | B10: 9 Menor cuantía | D10: 10 10-Corporación sin ánimo de lucro, Organización no Gubernamental -ONG- | K10: SUBDIRECCION DE DISPOSICION FINAL-SDF
A11: 31 31-Servicios Profesionales | D11: 11 11-Entidad Estatal | K11: SUBDIRECCION DE RECOLECCION, BARRIDO Y LIMPIEZA-RBL
A12: 32 32-Servicios Artísticos | D12: 12 12-Universidad Pública | K12: SUBDIRECCION DE SERVICIOS FUNERARIOS Y ALUMBRADO PUBLICO-SSFAP
A13: 33 33-Servicios Apoyo a la Gestion de la Entidad (servicios administrativos) | D13: 13 13-Universidad Privada | K13: OFICINA DE CONTROL INTERNO DISCIPLINARIO-OCDI
A14: 34 34-Servicios Asistenciales de Salud | D14: 14 14-Institución de Investigación Científica
A15: 35 35-Servicios de Comunicaciones | D15: 15 15-Organismo Multilateral
A16: 36 36-Servicios de Edición | D16: 16 16-Institución Aseguradora
A17: 37 37-Servicios de Impresión | D17: 17 17-Institución Financiera
A18: 38 38-Servicios de Publicación | D18: 18 18-Empresa Social del Estado - E.S.E.
A19: 39 39-Servicios de Capacitación | D19: 19 19-Empresa de Servicios Públicos - E.S.P.
A20: 40 40-Servicios de Outsourcing | D20: 20 20-Institución Prestadora de Servicios - I.P.S.
A21: 41 41-Desarrollo de Proyectos Culturales | D21: 21 21-Empresa Promotora de Salud - E.P.S.
A22: 42 42-Suministro de Bienes en general | D22: 22 22-Administradora de Régimen Subsidiado - A.R.S
A23: 43 43-Suministro de Servicio de Vigilancia | D23: 23 23-Empresa Unipersonal
A24: 44 44-Suministro de Servicio de Aseo | D24: 24 24-Otro
A25: 45 45-Sumunistro de Alimentos | D25: 25 25-Sociedad por Acciones Simplificadas - SAS
A26: 46 46-Sumunistro de Medicamentos | D26: 26 26-Persona Natural
A27: 48 48-Otros Suministros
A28: 49 49-Otros Servicios
A29: 50 50-Servicios de Transporte
A30: 51 51-Concesión (Administración de Bienes)
A31: 52 52-Concesión (Servicios Públicos Domiciliarios)
A32: 54 54-Concesión (Servicios de Salud)
A33: 55 55-Concesión (Obra Pública)
A34: 59 59-Concesión (Otros)
A35: 61 61-Contrato de Fiducia o Encargo Fiduciario
A36: 62 62-Contrato de Administración Profesional de Acciones
A37: 63 63-Leasing
A38: 65 65-Depósitos
... A73: 999 999-Otro tipo de naturaleza de contratos
B76: NOMBRE DEL SUPERVISOR | C76: CARGO | D76: NIT Y/O CEDULA SUPERVISOR
...

Sheet ANULADO-RECHAZADOS
A1: N° | B1: NO CONTRATO | C1: Abogado asignado | D1: FECHA DE SOLICITUD | E1: ABOGADO ENCARGADO | F1: CLASE DE CONTRATO | G1: TIPO DE CONTRATO (MINUTA) | H1: Descripcion Mod. Selec | I1: NO. DE PROCESO | J1: CODIGO UNSPSC | K1: LINK DE PUBLICACIÓN | L1: ESTADO | M1: TIPO DE GASTO | N1: OBJETO | O1: NOMBRE O RAZON SOCIAL (CONTRATISTA) | P1: NIT Y/O CEDULA | Q1: D.V / CODIGO DE VERIFICACION RUT | R1: REPRESENTANTE LEGAL | S1: NIT REPRESENTANTE LEGAL | T1: CESIONARIO | U1: NIT O CC CESIONARIO | V1: FECHA CESION | W1: CONSORCIO O UNION TEMPORAL | X1: EMPRESAS PARTICIPANTES DE LA UNION TEMPORAL O CONSORCIO | Y1: PORCENTAJE DE PARTICIPACION | Z1: FECHA DE NACIMIENTO DD-MM-AA | AA1: DIRECCION | AB1: TELEFONO | AC1: CORREO ELECTRONICO | AD1: NATURALEZA JURIDICA | AE1: GENERO | AF1: Edad | AG1: PROFESION DE ACUERDO HOJA DE VIDA SIDEAP | AH1: ESTUDIOS ESPECIALIZADOS DE ACUERDO SIDEAP | AI1: TOTAL EXPERIENCIA SIDEAP | AJ1: OBSERVACIONES VALOR | AK1: VALOR ADICIONES | AL1: VIGENCIAS FUTURAS | AM1: VALOR INICIAL | AN1: VALOR MENSUAL PAGADO | AO1: IVA | AP1: CANTIDAD DE PAGOS | AQ1: VALOR TOTAL | AR1: FECHA DE INICIO | AS1: FECHA DE TERMINACION | AT1: TIEMPO EJECUCION INICIAL En meses | AU1: EJECUCION TOTAL EN DIAS | AV1: NO ORFEO | AW1: DEPENDENCIA | AX1: NOMBRE DEL SUPERVISOR | AY1: CARGO | AZ1: NO CDP | BA1: FECHA CDP | BB1: RUBRO PRESUPUESTAL | BC1: NO RP | BD1: FECHA REGISTRO | BE1: CLAUSULA LIQUIDACION | BF1: LIQUIDADO O TERMINADO ANTICIPADAMENTE | BG1: FECHA ACTA LIQUIDACION O TERMINACION ANTICIPADA | BH1: NIVEL DE ACUERDO A TABLA DE HONORARIOS | BI1: VENCIMIENTO LIQUIDACION | BJ1: FECHA DE SUSCRPCIÓN
A2: 1 | B2: UAESP-05-2026 | C2: anulado | D2: anulado | E2: anulado | F2: anulado | G2: anulado | H2: anulado | I2: anulado | J2: anulado | K2: anulado | L2: anulado | M2: anulado | N2: anulado | O2: anulado | P2: anulado | Q2: anulado | R2: anulado | S2: anulado | T2: anulado | U2: anulado | V2: anulado | W2: anulado | X2: anulado | Y2: anulado | Z2: anulado | AA2: anulado | AB2: anulado | AC2: anulado | AD2: anulado | AE2: anulado | AF2: anulado | AG2: anulado | AH2: anulado | AI2: anulado | AJ2: anulado | AK2: anulado | AL2: anulado | AM2: anulado | AN2: anulado | AO2: anulado | AP2: anulado | AQ2: anulado | AR2: anulado | AS2: anulado | AT2: anulado | AU2: anulado | AV2: anulado | AW2: anulado | AX2: anulado | AY2: anulado | AZ2: anulado | BA2: anulado | BB2: anulado | BC2: anulado | BD2: anulado | BE2: anulado | BF2: anulado | BG2: anulado | BH2: anulado | BI2: anulado | BJ2: anulado | BK2: anulado
A3: 2 | B3: UAESP-06-2026 | C3: anulado | D3: anulado | E3: anulado | F3: anulado | G3: anulado | H3: anulado | I3: anulado | J3: anulado | K3: anulado | L3: anulado | M3: anulado | N3: anulado | O3: anulado | P3: anulado | Q3: anulado | R3: anulado | S3: anulado | T3: anulado | U3: anulado | V3: anulado | W3: anulado | X3: anulado | Y3: anulado | Z3: anulado | AA3: anulado | AB3: anulado | AC3: anulado | AD3: anulado | AE3: anulado | AF3: anulado | AG3: anulado | AH3: anulado | AI3: anulado | AJ3: anulado | AK3: anulado | AL3: anulado | AM3: anulado | AN3: anulado | AO3: anulado | AP3: anulado | AQ3: anulado | AR3: anulado | AS3: anulado | AT3: anulado | AU3: anulado | AV3: anulado | AW3: anulado | AX3: anulado | AY3: anulado | AZ3: anulado | BA3: anulado | BB3: anulado | BC3: anulado | BD3: anulado | BE3: anulado | BF3: anulado | BG3: anulado | BH3: anulado | BI3: anulado | BJ3: anulado | BK3: anulado
A4: 11 | B4: UAESP-13-2026 | C4: anulado | D4: anulado | E4: anulado | F4: anulado | G4: anulado | H4: anulado | I4: anulado | J4: anulado | K4: anulado | L4: RECHAZADO | M4: anulado | N4: SAP-003: Prestar servicios profesionales para el control y administración de las comunicaciones internas y externas del proceso de alumbrado público, utilizando los sistemas de información y gestión documental y las bases de seguimiento y control. | O4: DAVID FERNANDO PACHECHO ARIZA | P4: anulado | Q4: anulado | R4: anulado | S4: anulado | T4: anulado | U4: anulado | V4: anulado | W4: anulado | X4: anulado | Y4: anulado | Z4: anulado | AA4: anulado | AB4: anulado | AC4: anulado | AD4: anulado | AE4: anulado | AF4: anulado | AG4: anulado | AH4: anulado | AI4: anulado | AJ4: anulado | AK4: anulado | AL4: anulado | AM4: anulado | AN4: anulado | AO4: anulado | AP4: anulado | AQ4: anulado | AR4: anulado | AS4: anulado | AT4: anulado | AU4: anulado | AV4: anulado | AW4: anulado | AX4: anulado | AY4: anulado | AZ4: anulado | BA4: anulado | BB4: anulado | BC4: anulado | BD4: anulado | BE4: anulado | BF4: anulado | BG4: anulado | BH4: anulado | BI4: anulado | BJ4: anulado | BK4: anulado
A5: 79 | B5: UAESP-81-2026 | C5: anulado | D5: anulado | E5: anulado | F5: anulado | G5: anulado | H5: anulado | I5: anulado | J5: anulado | K5: anulado | L5: RECHAZADO | M5: anulado | O5: NATALIA GONZÁLEZ PORRAS | P5: anulado | Q5: anulado | R5: anulado | S5: anulado | T5: anulado | U5: anulado | V5: anulado | W5: anulado | X5: anulado | Y5: anulado | Z5: anulado | AA5: anulado | AB5: anulado | AC5: anulado | AD5: anulado | AE5: anulado | AF5: anulado | AG5: anulado | AH5: anulado | AI5: anulado | AJ5: anulado | AK5: anulado | AL5: anulado | AM5: anulado | AN5: anulado | AO5: anulado | AP5: anulado | AQ5: anulado | AR5: anulado | AS5: anulado | AT5: anulado | AU5: anulado | AV5: anulado | AW5: anulado | AX5: anulado | AY5: anulado | AZ5: anulado | BA5: anulado | BB5: anulado | BC5: anulado | BD5: anulado | BE5: anulado | BF5: anulado | BG5: anulado | BH5: anulado | BI5: anulado | BJ5: anulado | BK5: anulado
A6: 115 | B6: UAESP-117-2026 | C6: anulado | D6: anulado | E6: anulado | F6: anulado | G6: anulado | H6: anulado | I6: anulado | J6: anulado | K6: anulado | L6: RECHAZADO | M6: anulado | N6: SA-028 Prestar servicios profesionales a la Subdirección de Aprovechamiento para realizar las actividades de coordinación técnica, administrativa y financiera requeridas para el programa de Incentivo al Aprovechamiento y Tratamiento de Residuos Sólidos (IAT), así como de actividades encaminadas al fortalecimiento de la actividad del reciclaje, las organizaciones y los recicladores de oficio | O6: JHON ALEXANDER AVILA MOLANO | P6: anulado | Q6: anulado | R6: anulado | S6: anulado | T6: anulado | U6: anulado | V6: anulado | W6: anulado | X6: anulado | Y6: anulado | Z6: anulado | AA6: anulado | AB6: anulado | AC6: anulado | AD6: anulado | AE6: anulado | AF6: anulado | AG6: anulado | AH6: anulado | AI6: anulado | AJ6: anulado | AK6: anulado | AL6: anulado | AM6: anulado | AN6: anulado | AO6: anulado | AP6: anulado | AQ6: anulado | AR6: anulado | AS6: anulado | AT6: anulado | AU6: anulado | AV6: anulado | AW6: anulado | AX6: anulado | AY6: anulado | AZ6: anulado | BA6: anulado | BB6: anulado | BC6: anulado | BD6: anulado | BE6: anulado | BF6: anulado | BG6: anulado | BH6: anulado | BI6: anulado | BJ6: anulado | BK6: anulado
B7: UAESP-235-2026 | C7: anulado | D7: anulado | E7: anulado | F7: anulado | G7: anulado | H7: anulado | I7: anulado | J7: anulado | K7: anulado | L7: RECHAZADO | M7: anulado | O7: DIANA PAOLA PEÑATA GOMEZ | P7: anulado | Q7: anulado | R7: anulado | S7: anulado | T7: anulado | U7: anulado | V7: anulado | W7: anulado | X7: anulado | Y7: anulado | Z7: anulado | AA7: anulado | AB7: anulado | AC7: anulado | AD7: anulado | AE7: anulado | AF7: anulado | AG7: anulado | AH7: anulado | AI7: anulado | AJ7: anulado | AK7: anulado | AL7: anulado | AM7: anulado | AN7: anulado | AO7: anulado | AP7: anulado | AQ7: anulado | AR7: anulado | AS7: anulado | AT7: anulado | AU7: anulado | AV7: anulado | AW7: anulado | AX7: anulado | AY7: anulado | AZ7: anulado | BA7: anulado | BB7: anulado | BC7: anulado | BD7: anulado | BE7: anulado | BF7: anulado | BG7: anulado | BH7: anulado | BI7: anulado | BJ7: anulado | BK7: anulado
B8: UAESP-362-2026 | C8: anulado | D8: anulado | E8: anulado | F8: anulado | G8: anulado | H8: anulado | I8: anulado | J8: anulado | K8: anulado | L8: anulado | M8: anulado | N8: anulado | O8: anulado | P8: anulado | Q8: anulado | R8: anulado | S8: anulado | T8: anulado | U8: anulado | V8: anulado | W8: anulado | X8: anulado | Y8: anulado | Z8: anulado | AA8: anulado | AB8: anulado | AC8: anulado | AD8: anulado | AE8: anulado | AF8: anulado | AG8: anulado | AH8: anulado | AI8: anulado | AJ8: anulado | AK8: anulado | AL8: anulado | AM8: anulado | AN8: anulado | AO8: anulado | AP8: anulado | AQ8: anulado | AR8: anulado | AS8: anulado | AT8: anulado | AU8: anulado | AV8: anulado | AW8: anulado | AX8: anulado | AY8: anulado | AZ8: anulado | BA8: anulado | BB8: anulado | BC8: anulado | BD8: anulado | BE8: anulado | BF8: anulado | BG8: anulado | BH8: anulado | BI8: anulado | BJ8: anulado | BK8: anulado

Sheet AYP
A1: NO CONTRATO | B1: A1 | C1: A2 | D1: A3 | E1: A4 | F1: A5 | G1: TOTAL ADICIONES | H1: P1 | J1: PLAZO | K1: P2 | M1: PLAZO | N1: P3 | P1: PLAZO
A2: =PRINCIPAL!B2 -> UAESP-01-2026 | G2: =B2+C2+D2+E2+F2 -> 0
A3: =PRINCIPAL!B3 -> UAESP-02-2026 | G3: =B3+C3+D3+E3+F3 -> 0
A4: =PRINCIPAL!B4 -> UAESP-03-2026 | G4: =B4+C4+D4+E4+F4 -> 0
A5: =PRINCIPAL!B5 -> UAESP-04-2026 | B5: 14760000 | G5: =B5+C5+D5+E5+F5 -> 14760000
A6: =PRINCIPAL!#REF! -> #REF! | B6: 5850000 | G6: =B6+C6+D6+E6+F6 -> 5850000 | H6: 46004 | I6: 46034 | J6: 1 MES
A7: =PRINCIPAL!#REF! -> #REF! | B7: 8500000 | G7: =B7+C7+D7+E7+F7 -> 8500000 | H7: 46004 | I7: 46034 | J7: 1 MES
A8: =PRINCIPAL!B6 -> UAESP-07-2026 | G8: =B8+C8+D8+E8+F8 -> 0
A9: =PRINCIPAL!B7 -> UAESP-08-2026 | B9: 3000000 | G9: =B9+C9+D9+E9+F9 -> 3000000 | H9: 46010 | I9: 46025 | J9: 16 DIAS
A10: =PRINCIPAL!B8 -> UAESP-09-2026 | B10: 6000000 | G10: =B10+C10+D10+E10+F10 -> 6000000 | H10: 46004 | I10: 46034 | J10: 1 MES
A11: =PRINCIPAL!B9 -> UAESP-10-2026 | B11: 15000000 | G11: =B11+C11+D11+E11+F11 -> 15000000 | H11: 46004 | I11: 46034 | J11: 1 MES
A12: =PRINCIPAL!B10 -> UAESP-11-2026 | G12: =B12+C12+D12+E12+F12 -> 0
A13: =PRINCIPAL!B11 -> UAESP-12-2026 | B13: 4700000 | G13: =B13+C13+D13+E13+F13 -> 4700000 | H13: 46008 | I13: 46023 | J13: 15 DIAS
A14: ='ANULADO-RECHAZADOS'!B4 -> UAESP-13-2026 | B14: 7500000 | G14: =B14+C14+D14+E14+F14 -> 7500000 | H14: 46004 | I14: 46034 | J14: 1 MES
A15: =PRINCIPAL!B12 -> UAESP-14-2026 | G15: =B15+C15+D15+E15+F15 -> 0
A16: =PRINCIPAL!B13 -> UAESP-15-2026 | G16: =B16+C16+D16+E16+F16 -> 0
A17: =PRINCIPAL!B14 -> UAESP-16-2026 | G17: =B17+C17+D17+E17+F17 -> 0
A18: =PRINCIPAL!B15 -> UAESP-17-2026 | G18: =B18+C18+D18+E18+F18 -> 0
A19: =PRINCIPAL!B16 -> UAESP-18-2026 | G19: =B19+C19+D19+E19+F19 -> 0
A20: =PRINCIPAL!B17 -> UAESP-19-2026 | B20: 3500000 | G20: =B20+C20+D20+E20+F20 -> 3500000 | H20: 46015 | I20: 46030 | J20: 16 DIAS
A21: =PRINCIPAL!B18 -> UAESP-20-2026 | B21: 5000000 | G21: =B21+C21+D21+E21+F21 -> 5000000 | H21: 46009 | I21: 46024 | J21: 16 DIAS
A22: =PRINCIPAL!B19 -> UAESP-21-2026 | B22: 8500000 | G22: =B22+C22+D22+E22+F22 -> 8500000 | H22: 46008 | I22: 46038 | J22: 1 MES
A23: =PRINCIPAL!B20 -> UAESP-22-2026 | B23: 2600000 | G23: =B23+C23+D23+E23+F23 -> 2600000 | H23: 46010 | I23: 46030 | J23: 21 DIAS
A24: =PRINCIPAL!B21 -> UAESP-23-2026 | G24: =B24+C24+D24+E24+F24 -> 0
A25: =PRINCIPAL!B22 -> UAESP-24-2026 | B25: 5850000 | G25: =B25+C25+D25+E25+F25 -> 5850000 | H25: 46009 | I25: 46039 | J25: 1 MES
A26: =PRINCIPAL!B23 -> UAESP-25-2026 | G26: =B26+C26+D26+E26+F26 -> 0
A27: =PRINCIPAL!B24 -> UAESP-26-2026 | G27: =B27+C27+D27+E27+F27 -> 0
A28: =PRINCIPAL!B25 -> UAESP-27-2026 | G28: =B28+C28+D28+E28+F28 -> 0
A29: =PRINCIPAL!B26 -> UAESP-28-2026 | G29: =B29+C29+D29+E29+F29 -> 0
A30: =PRINCIPAL!B27 -> UAESP-29-2026 | G30: =B30+C30+D30+E30+F30 -> 0
A31: =PRINCIPAL!B28 -> UAESP-030-2026 | B31: 3000000 | G31: =B31+C31+D31+E31+F31 -> 3000000 | H31: 46016 | I31: 46031 | J31: 16 DIAS
A32: =PRINCIPAL!B29 -> UAESP-31-2026 | G32: =B32+C32+D32+E32+F32 -> 0
A33: =PRINCIPAL!B30 -> UAESP-32-2026 | G33: =B33+C33+D33+E33+F33 -> 0
A34: =PRINCIPAL!B31 -> UAESP-33-2026 | G34: =B34+C34+D34+E34+F34 -> 0
A35: =PRINCIPAL!B32 -> UAESP-34-2026 | B35: 3500000 | G35: =B35+C35+D35+E35+F35 -> 3500000 | H35: 46011 | I35: 46026 | J35: 15 DIAS
A36: =PRINCIPAL!B33 -> UAESP-35-2026 | B36: 2600000 | G36: =B36+C36+D36+E36+F36 -> 2600000 | H36: 46012 | I36: 46032 | J36: 21 DIAS
A37: =PRINCIPAL!B34 -> UAESP-36-2026 | G37: =B37+C37+D37+E37+F37 -> 0
A38: =PRINCIPAL!B35 -> UAESP-037-2026 | G38: =B38+C38+D38+E38+F38 -> 0
A39: =PRINCIPAL!B36 -> UAESP-38-2026 | G39: =B39+C39+D39+E39+F39 -> 0
A40: =PRINCIPAL!B37 -> UAESP-39-2026 | G40: =B40+C40+D40+E40+F40 -> 0
...

Sheet PROCESOS
B1: MINIMA CUANTIA
A3: FECHA | B3: NO PROCESO | C3: PROFESIONAL | D3: OBJETO | E3: CONTRATISTA | F3: VALOR | G3: ESTADO | H3: NO PROPONENTES | I3: DEPENDENCIA
B32: SELECCIÓN ABREVIADA
A34: FECHA | B34: NO PROCESO | C34: PROFESIONAL | D34: OBJETO | E34: CONTRATISTA | F34: VALOR | G34: ESTADO | H34: NO PROPONENTES | I34: DEPENDENCIA
B52: LICITACION PUBLICA
A54: FECHA | B54: NO PROCESO | C54: PROFESIONAL | D54: OBJETO | E54: CONTRATISTA | F54: VALOR | G54: ESTADO | H54: NO PROPONENTES | I54: DEPENDENCIA
B59: CONCURSO DE MERITOS
A61: FECHA | B61: NO PROCESO | C61: PROFESIONAL | D61: OBJETO | E61: CONTRATISTA | F61: VALOR | G61: ESTADO | H61: NO PROPONENTES | I61: DEPENDENCIA
B66: PROCESOS COMPETITIVOS
A67: FECHA | B67: NO PROCESO | C67: PROFESIONAL | D67: OBJETO | E67: CONTRATISTA | F67: VALOR | G67: ESTADO | H67: NO PROPONENTES | I67: DEPENDENCIA
I68: SAF

Sheet COTIZACIONES
A1: No Cotización | B1: Fecha | C1: Objeto | D1: Dependencia | E1: Solicitante
D2: - | E2: -
D3: - | E3: -

Sheet ANULADOS
A1: NO CONTRATO | B1: FECHA DE SUSCRIPCIÓN | C1: ABOGADO ENCARGADO | D1: CLASE DE CONTRATO | E1: TIPO DE CONTRATO (MINUTA) | F1: MODALIDAD DE SELECCIÓN | G1: NO. DE PROCESO | H1: CODIGO UNSPSC | I1: LINK DE PUBLICACIÓN | J1: OBJETO | K1: NOMBRE O RAZON SOCIAL (CONTRATISTA)
A2: UAESP-16-2025 | B2: 45699 | C2: Camilo | D2: 31 31-Servicios Profesionales | E2: PRESTACION DE SERVICIOS PROFESIONALES | F2: 5 5. Contratación directa | G2: N/A | H2: 80161500 | I2: https://community.secop.gov.co/Public/Tendering/OpportunityDetail/Index?noticeUID=CO1.NTC.7609963&isFromPublicArea=True&isModal=true&asPopupView=true | J2: AP-004 Prestar servicios profesionales a la Subdirección de Servicios Funerarios y Alumbrado Público en asuntos ambientales y sanitarios, relacionados con la prestación del servicio de Alumbrado Público y hornos crematorios en los cementerios de propiedad del Distrito | K2: Ever Adrian Hernandez
A3: UAESP-40-2025 | B3: 45707 | C3: Andrea Torres | D3: 31 31-Servicios Profesionales | E3: PRESTACION DE SERVICIOS PROFESIONALES | F3: 5 5. Contratación directa | G3: N/A | H3: 80161500 | I3: https://community.secop.gov.co/Public/Tendering/OpportunityDetail/Index?noticeUID=CO1.NTC.7677097&isFromPublicArea=True&isModal=true&asPopupView=true | J3: SSF-027 Prestar servicios profesionales como apoyo transversal a la subdirección en la coordinación en los asuntos que le sean requeridos para el apoyo a la supervisión de los servicios
A4: UAESP-153-2025 | B4: 45736 | C4: Camilo | D4: 49 49-Otros Servicios | E4: PRESTACION DE SERVICIOS | F4: 2 2. Selección abreviada | G4: No salio con este numero | H4: No salio con este numero | I4: No salio con este numero | J4: No salio con este numero | K4: No salio con este numero
A5: UAESP-169-2025 | B5: 45744 | C5: Johanna | D5: 31 31-Servicios Profesionales | E5: PRESTACION DE SERVICIOS PROFESIONALES | F5: 5 5. Contratación directa | G5: N/A | H5: 80161500 | I5: https://community.secop.gov.co/Public/Tendering/OpportunityDetail/Index?noticeUID=CO1.NTC.7913135&isFromPublicArea=True&isModal=true&asPopupView=true | J5: RBL-039 Prestar servicios profesionales a la Unidad Administrativa Especial de Servicios Públicos - UAESP para desarrollar acciones en territorio con entidades distritales y comunidad, que permitan mejoras significativas en la atención de requerimientos, gestionar las actividades relacionadas con los servicios y operativos locales que garanticen satisfacción del usuario con relación a las responsabilidades a cargo de la Entidad | K5: JOSE MANUEL LLAIN TORRADO
A6: UAESP-170-2025 | B6: No se Ejecuto | C6: No se Ejecuto | D6: 31 31-Servicios Profesionales | E6: PRESTACION DE SERVICIOS PROFESIONALES | F6: 5 5. Contratación directa | G6: No se Ejecuto | H6: No se Ejecuto | I6: No se Ejecuto | J6: No se Ejecuto | K6: No se Ejecuto
A7: UAESP-175-2025 | B7: No se Ejecuto | C7: No se Ejecuto | D7: No se Ejecuto | E7: No se Ejecuto | F7: No se Ejecuto | G7: No se Ejecuto | H7: No se Ejecuto | I7: No se Ejecuto | J7: No se Ejecuto | K7: No se Ejecuto
A8: UAESP-219-2025 | B8: No se Ejecuto | C8: No se Ejecuto | D8: No se Ejecuto | E8: No se Ejecuto | F8: No se Ejecuto | G8: No se Ejecuto | H8: No se Ejecuto | I8: No se Ejecuto | J8: No se Ejecuto | K8: No se Ejecuto
A9: UAESP-239-2025 | B9: No se Ejecuto | C9: No se Ejecuto | D9: No se Ejecuto | E9: No se Ejecuto | F9: No se Ejecuto | G9: No se Ejecuto | H9: No se Ejecuto | I9: No se Ejecuto | J9: No se Ejecuto | K9: No se Ejecuto
A10: UAESP-265-2025 | B10: No se Ejecuto | C10: No se Ejecuto | D10: No se Ejecuto | E10: No se Ejecuto | F10: No se Ejecuto | G10: No se Ejecuto | H10: No se Ejecuto | I10: No se Ejecuto | J10: No se Ejecuto | K10: No se Ejecuto
A11: UAESP-318-2025 | B11: Desistido | C11: Desistido | D11: Desistido | E11: Desistido | F11: Desistido | G11: Desistido | H11: Desistido | I11: Desistido | J11: Desistido | K11: Desistido
A12: UAESP-360-2025 | B12: Rechazada | C12: Rechazada | D12: Rechazada | E12: Rechazada | F12: Rechazada | G12: Rechazada | H12: Rechazada | I12: Rechazada | J12: Rechazada | K12: Rechazada
A13: UAESP-400-2025 | B13: Rechazada | C13: Rechazada | D13: Rechazada | E13: Rechazada | F13: Rechazada | G13: Rechazada | H13: Rechazada | I13: Rechazada | J13: Rechazada | K13: Rechazada

Sheet SUSPENSIONES
A1: NO CONTRATO | B1: CONTRATISTA | C1: SUSPENSION | E1: PLAZO | F1: REINICIO
A2: =PRINCIPAL!B2 -> UAESP-01-2026 | B2: =PRINCIPAL!M2 -> UNIO-CCA
A3: =PRINCIPAL!B3 -> UAESP-02-2026 | B3: =PRINCIPAL!M3 -> BEATRIZ EUGENIA LONDONO HERNANDEZ
A4: =PRINCIPAL!B4 -> UAESP-03-2026 | B4: =PRINCIPAL!M4 -> YULIETH CAROLINA BEJARANO PINZON
A5: =PRINCIPAL!B5 -> UAESP-04-2026 | B5: =PRINCIPAL!M5 -> Cristian Leonardo Pineda Vargas
A6: =PRINCIPAL!#REF! -> #REF! | B6: =PRINCIPAL!#REF! -> #REF!
A7: =PRINCIPAL!#REF! -> #REF! | B7: =PRINCIPAL!#REF! -> #REF!
A8: =PRINCIPAL!B6 -> UAESP-07-2026 | B8: =PRINCIPAL!M6 -> SNE ABOGADOS SAS
A9: =PRINCIPAL!B7 -> UAESP-08-2026 | B9: =PRINCIPAL!M7 -> MARIA CATALINA CRUZ RICO
A10: =PRINCIPAL!B8 -> UAESP-09-2026 | B10: =PRINCIPAL!M8 -> ANA LORENA ORTIZ MEJIA
A11: =PRINCIPAL!B9 -> UAESP-10-2026 | B11: =PRINCIPAL!M9 -> NIXON DIAZ CISNEROS
A12: =PRINCIPAL!B10 -> UAESP-11-2026 | B12: =PRINCIPAL!M10 -> ANDREA OTERO MOJICA
A13: =PRINCIPAL!B11 -> UAESP-12-2026 | B13: =PRINCIPAL!M11 -> DANIEL BOCANEGRA RINCON
A14: ='ANULADO-RECHAZADOS'!B4 -> UAESP-13-2026 | B14: ='ANULADO-RECHAZADOS'!O4 -> DAVID FERNANDO PACHECHO ARIZA
A15: =PRINCIPAL!B12 -> UAESP-14-2026 | B15: =PRINCIPAL!M12 -> ADRIANA ORJUELA
A16: =PRINCIPAL!B13 -> UAESP-15-2026 | B16: =PRINCIPAL!M13 -> AURA CRISTINA GARCIA
A17: =PRINCIPAL!B14 -> UAESP-16-2026 | B17: =PRINCIPAL!M14 -> CARLOS GEOVANNY BORDA
A18: =PRINCIPAL!B15 -> UAESP-17-2026 | B18: =PRINCIPAL!M15 -> Andrés Gerardo Castañeda Camargo
A19: =PRINCIPAL!B16 -> UAESP-18-2026 | B19: =PRINCIPAL!M16 -> THOMAS FELIPE RONCANCIO VILLARREAL
A20: =PRINCIPAL!B17 -> UAESP-19-2026 | B20: =PRINCIPAL!M17 -> EDGAR FERNANDO VARGAS BUITRADO
A21: =PRINCIPAL!B18 -> UAESP-20-2026 | B21: =PRINCIPAL!M18 -> MARIA ELENA DIAZ ARIAS
A22: =PRINCIPAL!B19 -> UAESP-21-2026 | B22: =PRINCIPAL!M19 -> MAYRA ALEJANDRA CHIA VARGAS
A23: =PRINCIPAL!B20 -> UAESP-22-2026 | B23: =PRINCIPAL!M20 -> FELIX ALBERTO PINZON MON TOYA
A24: =PRINCIPAL!B21 -> UAESP-23-2026 | B24: =PRINCIPAL!M21 -> STHEPANIE ROMAN PARDO
A25: =PRINCIPAL!B22 -> UAESP-24-2026 | B25: =PRINCIPAL!M22 -> LESLIE PAMELA SERRANO ARTUNDUAGA
A26: =PRINCIPAL!B23 -> UAESP-25-2026 | B26: =PRINCIPAL!M23 -> Oswaldo Alfonso Arias Rodríguez
... A81: =PRINCIPAL!B78 -> UAESP-80-2026 | B81: =PRINCIPAL!M78 -> YAJAIRA ESTPHEFANE TARAZONA NIETO
A82: ='ANULADO-RECHAZADOS'!B5 -> UAESP-81-2026 | B82: ='ANULADO-RECHAZADOS'!O5 -> NATALIA GONZÁLEZ PORRAS
A83: =PRINCIPAL!B79 -> UAESP-82-2026 | B83: =PRINCIPAL!M79 -> HARVY ZURITH BARRIOS LOPEZ.
A84: =PRINCIPAL!B80 -> UAESP-254-2026 | B84: =PRINCIPAL!M80 -> Brandon Sebastian Buitrago Porras
A85: =PRINCIPAL!B81 -> UAESP-84-2026. | B85: =PRINCIPAL!M81 -> JOHN FREDDY AGUIRRE CORREA
A86: =PRINCIPAL!B82 -> UAESP-381-2026 | B86: =PRINCIPAL!M82 -> CARLOS ARTURO DIAZ RODRIGUEZ
A87: =PRINCIPAL!B83 -> UAESP-86-2026 | B87: =PRINCIPAL!M83 -> ALBERTO ROCHA CARDOZO
A88: =PRINCIPAL!B84 -> UAESP-87-2026 | B88: =PRINCIPAL!M84 -> OSCAR DAVID TRIANA CORZO
A89: =PRINCIPAL!B85 -> UAESP-88-2026 | B89: =PRINCIPAL!M85 -> SANDRA TATIANA CHAVES BARRERA
A90: =PRINCIPAL!B86 -> UAESP-89-2026 | B90: =PRINCIPAL!M86 -> Nuis Lisaardo Beltran
A91: =PRINCIPAL!B87 -> UAESP-90-2026 | B91: =PRINCIPAL!M87 -> CLAUDIA YAMILE SUAREZ POBLADOR
A92: =PRINCIPAL!B88 -> UAESP-091-2026 | B92: =PRINCIPAL!M88 -> Tatiana Florez LOZANO
A93: =PRINCIPAL!B89 -> UAESP-92-2026 | B93: =PRINCIPAL!M89 -> MARIBEL PATACON PEDRAZA
A94: =PRINCIPAL!B90 -> UAESP-93-2026 | B94: =PRINCIPAL!M90 -> JAROL REINEL DIAZ HERNÁNDEZ
...

Sheet Ordenes de Compra
A1: Orden de Compra | B1: Entidad Estatal | C1: Fecha de la orden | D1: Estado | E1: Instrumento | F1: Total | G1: CONTRATISTA | H1: OBJETO | I1: FECHA VENCIMIENTO | J1: DEPENDENCIA
A2: 143438 | B2: UNIDAD ADMINISTRATIVA ESPECIAL DE SERVICIOS PUBLICOS | C2: 45733.756 | D2: Emitido | E2: Aseo y Cafetería IV | F2: $524,619,509 | G2: CONSORCIO KIOS | H2: SAF-001 Adquirir por medio del Acuerdo Marco de Precios CCE-126-2023 el servicio de aseo e insumos de aseo, jardinería y cafetería para todos los bienes muebles que se encuentran en propiedad y en figura de arrendamiento a nombre de la Unidad Administrativa Especial de Servicios Públicos | I2: 12/30/2025 | J2: Subdireccion Administrativa y Financiera
