Workbook
Name incBuyerDossierDetaillnkRequestName: PROCESOS.!$K$46
Name lnkContractReferenceLink_1: PROCESOS.!$F$52
Name lnkProcurementContractViewLinkNewTab_0: PROCESOS.!$L$263

Sheet PROCESOS.
A1: N° | B1: NO CONTRATO | C1: FECHA DE SOLICITUD | D1: TIPO DE CONTRATO (MINUTA) | E1: Descripcion Mod. Selec | F1: NO. DE PROCESO | G1: CODIGO UNSPSC | H1: LINK DE PUBLICACIÓN | I1: ESTADO | J1: TIPO DE GASTO | K1: OBJETO | L1: NOMBRE O RAZON SOCIAL (CONTRATISTA) | M1: VALOR INICIAL | N1: VALOR MENSUAL PAGADO | O1: IVA | P1: CANTIDAD DE PAGOS | Q1: VALOR TOTAL | R1: FECHA DE INICIO | S1: FECHA DE TERMINACION | T1: TIEMPO EJECUCION INICIAL En meses | U1: EJECUCION TOTAL EN DIAS | V1: NO ORFEO | W1: DEPENDENCIA
A2: 1 | B2: N/A | C2: 15/1//2025 | D2: CONSULTORIA | E2: CONCURSO DE MERITOS ABIERTO | F2: UAESP-CMA-03-2025 | G2: 80161500 | H2: https://community.secop.gov.co/Public/Tendering/ContractNoticePhases/View?PPI=CO1.PPI.43991744&isFromPublicArea=True&isModal=False | I2: Adjudicado | J2: Funcionamiento | K2: SAF-027 Realizar un Estudio de cargas laborales para la Unidad. | L2: CONSORCIO ESTUDIO CARGAS LABORALES | M2: 248321724 | N2: N/A | O2: N/A | P2: 2 | Q2: 248321724 | R2: N/A | S2: N/A | T2: OCHO (8) MESES | U2: N/A | V2: 20257000088773 | W2: Subdirección Administrativa y Financiera
A409: 410 | B409: UAESP-417-2026 | F409: UAESP-417-2026 | N409: =M409/P409 -> #DIV/0! | Q409: =M409 -> 0 | T409: =YEAR(S409)*12+MONTH(S409)-(YEAR(R409)*12+MONTH(R409))-IF(DAY(S409)<DAY(R409),1,0) -> 0 | U409: =S409-R409 -> 0
A410: 411 | B410: UAESP-418-2026 | F410: UAESP-418-2026 | N410: =M410/P410 -> #DIV/0! | Q410: =M410 -> 0 | T410: =YEAR(S410)*12+MONTH(S410)-(YEAR(R410)*12+MONTH(R410))-IF(DAY(S410)<DAY(R410),1,0) -> 0 | U410: =S410-R410 -> 0
A411: 412 | B411: UAESP-419-2026 | F411: UAESP-419-2026 | N411: =M411/P411 -> #DIV/0! | Q411: =M411 -> 0 | T411: =YEAR(S411)*12+MONTH(S411)-(YEAR(R411)*12+MONTH(R411))-IF(DAY(S411)<DAY(R411),1,0) -> 0 | U411: =S411-R411 -> 0
A412: 413 | B412: UAESP-420-2026 | F412: UAESP-420-2026 | N412: =M412/P412 -> #DIV/0! | Q412: =M412 -> 0 | T412: =YEAR(S412)*12+MONTH(S412)-(YEAR(R412)*12+MONTH(R412))-IF(DAY(S412)<DAY(R412),1,0) -> 0 | U412: =S412-R412 -> 0
A413: 414 | B413: UAESP-421-2026 | F413: UAESP-421-2026 | N413: =M413/P413 -> #DIV/0! | Q413: =M413 -> 0 | T413: =YEAR(S413)*12+MONTH(S413)-(YEAR(R413)*12+MONTH(R413))-IF(DAY(S413)<DAY(R413),1,0) -> 0 | U413: =S413-R413 -> 0
A414: 415 | B414: UAESP-422-2026 | F414: UAESP-422-2026 | N414: =M414/P414 -> #DIV/0! | Q414: =M414 -> 0 | T414: =YEAR(S414)*12+MONTH(S414)-(YEAR(R414)*12+MONTH(R414))-IF(DAY(S414)<DAY(R414),1,0) -> 0 | U414: =S414-R414 -> 0
A415: 416 | B415: UAESP-423-2026 | F415: UAESP-423-2026 | N415: =M415/P415 -> #DIV/0! | Q415: =M415 -> 0 | T415: =YEAR(S415)*12+MONTH(S415)-(YEAR(R415)*12+MONTH(R415))-IF(DAY(S415)<DAY(R415),1,0) -> 0 | U415: =S415-R415 -> 0
A416: 417 | B416: UAESP-424-2026 | F416: UAESP-424-2026 | N416: =M416/P416 -> #DIV/0! | Q416: =M416 -> 0 | T416: =YEAR(S416)*12+MONTH(S416)-(YEAR(R416)*12+MONTH(R416))-IF(DAY(S416)<DAY(R416),1,0) -> 0 | U416: =S416-R416 -> 0
A417: 418 | B417: UAESP-425-2026 | F417: UAESP-425-2026 | N417: =M417/P417 -> #DIV/0! | Q417: =M417 -> 0 | T417: =YEAR(S417)*12+MONTH(S417)-(YEAR(R417)*12+MONTH(R417))-IF(DAY(S417)<DAY(R417),1,0) -> 0 | U417: =S417-R417 -> 0
A418: 419 | B418: UAESP-426-2026 | F418: UAESP-426-2026 | N418: =M418/P418 -> #DIV/0! | Q418: =M418 -> 0 | T418: =YEAR(S418)*12+MONTH(S418)-(YEAR(R418)*12+MONTH(R418))-IF(DAY(S418)<DAY(R418),1,0) -> 0 | U418: =S418-R418 -> 0
A419: 420 | B419: UAESP-427-2026 | F419: UAESP-427-2026 | N419: =M419/P419 -> #DIV/0! | Q419: =M419 -> 0 | T419: =YEAR(S419)*12+MONTH(S419)-(YEAR(R419)*12+MONTH(R419))-IF(DAY(S419)<DAY(R419),1,0) -> 0 | U419: =S419-R419 -> 0
A420: 421 | B420: UAESP-428-2026 | F420: UAESP-428-2026 | N420: =M420/P420 -> #DIV/0! | Q420: =M420 -> 0 | T420: =YEAR(S420)*12+MONTH(S420)-(YEAR(R420)*12+MONTH(R420))-IF(DAY(S420)<DAY(R420),1,0) -> 0 | U420: =S420-R420 -> 0
... A591: 592 | B591: UAESP-599-2026 | F591: UAESP-599-2026 | N591: =M591/P591 -> #DIV/0! | Q591: =M591 -> 0 | T591: =YEAR(S591)*12+MONTH(S591)-(YEAR(R591)*12+MONTH(R591))-IF(DAY(S591)<DAY(R591),1,0) -> 0 | U591: =S591-R591 -> 0
A592: 593 | B592: UAESP-600-2026 | F592: UAESP-600-2026 | I592: =IF(TODAY()<=S592,"Vigente",IF(S592="","IoI","TERMINADO")) -> IoI | N592: =M592/P592 -> #DIV/0! | Q592: =M592+#REF! -> #REF! | T592: =YEAR(S592)*12+MONTH(S592)-(YEAR(R592)*12+MONTH(R592))-IF(DAY(S592)<DAY(R592),1,0) -> 0 | U592: =S592-R592 -> 0

Sheet Hoja1

Sheet AYP
A1: NO CONTRATO | B1: A1 | C1: A2 | D1: A3 | E1: A4 | F1: A5 | G1: TOTAL ADICIONES | H1: P1 | J1: PLAZO | K1: P2 | M1: PLAZO | N1: P3 | P1: PLAZO
A2: =PROCESOS.!#REF! -> #REF! | G2: =B2+C2+D2+E2+F2 -> 0
A3: =PROCESOS.!B3 -> 0 | G3: =B3+C3+D3+E3+F3 -> 0
A4: =PROCESOS.!B4 -> 0 | G4: =B4+C4+D4+E4+F4 -> 0
A5: =PROCESOS.!B5 -> 0 | B5: 14760000 | G5: =B5+C5+D5+E5+F5 -> 14760000
A6: =PROCESOS.!#REF! -> #REF! | B6: 5850000 | G6: =B6+C6+D6+E6+F6 -> 5850000 | H6: 46004 | I6: 46034 | J6: 1 MES
A7: =PROCESOS.!#REF! -> #REF! | B7: 8500000 | G7: =B7+C7+D7+E7+F7 -> 8500000 | H7: 46004 | I7: 46034 | J7: 1 MES
A8: =PROCESOS.!B6 -> 0 | G8: =B8+C8+D8+E8+F8 -> 0
A9: =PROCESOS.!B7 -> 0 | B9: 3000000 | G9: =B9+C9+D9+E9+F9 -> 3000000 | H9: 46010 | I9: 46025 | J9: 16 DIAS
A10: =PROCESOS.!B8 -> 0 | B10: 6000000 | G10: =B10+C10+D10+E10+F10 -> 6000000 | H10: 46004 | I10: 46034 | J10: 1 MES
A11: =PROCESOS.!B9 -> 0 | B11: 15000000 | G11: =B11+C11+D11+E11+F11 -> 15000000 | H11: 46004 | I11: 46034 | J11: 1 MES
A12: =PROCESOS.!B10 -> 0 | G12: =B12+C12+D12+E12+F12 -> 0
A13: =PROCESOS.!B11 -> 0 | B13: 4700000 | G13: =B13+C13+D13+E13+F13 -> 4700000 | H13: 46008 | I13: 46023 | J13: 15 DIAS
A14: =#REF! -> #REF! | B14: 7500000 | G14: =B14+C14+D14+E14+F14 -> 7500000 | H14: 46004 | I14: 46034 | J14: 1 MES
A15: =PROCESOS.!B12 -> 0 | G15: =B15+C15+D15+E15+F15 -> 0
A16: =PROCESOS.!B13 -> 0 | G16: =B16+C16+D16+E16+F16 -> 0
A17: =PROCESOS.!B14 -> 0 | G17: =B17+C17+D17+E17+F17 -> 0
A18: =PROCESOS.!B15 -> 0 | G18: =B18+C18+D18+E18+F18 -> 0
A19: =PROCESOS.!B16 -> 0 | G19: =B19+C19+D19+E19+F19 -> 0
A20: =PROCESOS.!B17 -> 0 | B20: 3500000 | G20: =B20+C20+D20+E20+F20 -> 3500000 | H20: 46015 | I20: 46030 | J20: 16 DIAS
A21: =PROCESOS.!B18 -> 0 | B21: 5000000 | G21: =B21+C21+D21+E21+F21 -> 5000000 | H21: 46009 | I21: 46024 | J21: 16 DIAS
A22: =PROCESOS.!B19 -> 0 | B22: 8500000 | G22: =B22+C22+D22+E22+F22 -> 8500000 | H22: 46008 | I22: 46038 | J22: 1 MES
A23: =PROCESOS.!B20 -> 0 | B23: 2600000 | G23: =B23+C23+D23+E23+F23 -> 2600000 | H23: 46010 | I23: 46030 | J23: 21 DIAS
A24: =PROCESOS.!B21 -> 0 | G24: =B24+C24+D24+E24+F24 -> 0
A25: =PROCESOS.!B22 -> 0 | B25: 5850000 | G25: =B25+C25+D25+E25+F25 -> 5850000 | H25: 46009 | I25: 46039 | J25: 1 MES
A26: =PROCESOS.!B23 -> 0 | G26: =B26+C26+D26+E26+F26 -> 0
A27: =PROCESOS.!B24 -> 0 | G27: =B27+C27+D27+E27+F27 -> 0
A28: =PROCESOS.!B25 -> 0 | G28: =B28+C28+D28+E28+F28 -> 0
A29: =PROCESOS.!B26 -> 0 | G29: =B29+C29+D29+E29+F29 -> 0
A30: =PROCESOS.!B27 -> 0 | G30: =B30+C30+D30+E30+F30 -> 0
A31: =PROCESOS.!B28 -> 0 | B31: 3000000 | G31: =B31+C31+D31+E31+F31 -> 3000000 | H31: 46016 | I31: 46031 | J31: 16 DIAS
A32: =PROCESOS.!B29 -> 0 | G32: =B32+C32+D32+E32+F32 -> 0
A33: =PROCESOS.!B30 -> 0 | G33: =B33+C33+D33+E33+F33 -> 0
A34: =PROCESOS.!B31 -> 0 | G34: =B34+C34+D34+E34+F34 -> 0
A35: =PROCESOS.!B32 -> 0 | B35: 3500000 | G35: =B35+C35+D35+E35+F35 -> 3500000 | H35: 46011 | I35: 46026 | J35: 15 DIAS
A36: =PROCESOS.!B33 -> 0 | B36: 2600000 | G36: =B36+C36+D36+E36+F36 -> 2600000 | H36: 46012 | I36: 46032 | J36: 21 DIAS
A37: =PROCESOS.!B34 -> 0 | G37: =B37+C37+D37+E37+F37 -> 0
A38: =PROCESOS.!B35 -> 0 | G38: =B38+C38+D38+E38+F38 -> 0
A39: =PROCESOS.!B36 -> 0 | G39: =B39+C39+D39+E39+F39 -> 0
A40: =PROCESOS.!B37 -> 0 | G40: =B40+C40+D40+E40+F40 -> 0
...

Sheet PROCESOS
B1: MINIMA CUANTIA
A3: FECHA | B3: NO PROCESO | C3: PROFESIONAL | D3: OBJETO | E3: CONTRATISTA | F3: VALOR | G3: ESTADO | H3: NO PROPONENTES | I3: DEPENDENCIA
B32: SELECCIÓN ABREVIADA
A34: FECHA | B34: NO PROCESO | C34: PROFESIONAL | D34: OBJETO | E34: CONTRATISTA | F34: VALOR | G34: ESTADO | H34: NO PROPONENTES | I34: DEPENDENCIA
B52: LICITACION PUBLICA
A54: FECHA | B54: NO PROCESO | C54: PROFESIONAL | D54: OBJETO | E54: CONTRATISTA | F54: VALOR | G54: ESTADO | H54: NO PROPONENTES | I54: DEPENDENCIA
B59: CONCURSO DE MERITOS
A61: FECHA | B61: NO PROCESO | C61: PROFESIONAL | D61: OBJETO | E61: CONTRATISTA | F61: VALOR | G61: ESTADO | H61: NO PROPONENTES | I61: DEPENDENCIA
B66: PROCESOS COMPETITIVOS
A67: FECHA | B67: NO PROCESO | C67: PROFESIONAL | D67: OBJETO | E67: CONTRATISTA | F67: VALOR | G67: ESTADO | H67: NO PROPONENTES | I67: DEPENDENCIA
I68: SAF

Sheet COTIZACIONES
A1: No Cotización | B1: Fecha | C1: Objeto | D1: Dependencia | E1: Solicitante
D2: - | E2: -
D3: - | E3: -

Sheet ANULADOS
A1: NO CONTRATO | B1: FECHA DE SUSCRIPCIÓN | C1: ABOGADO ENCARGADO | D1: CLASE DE CONTRATO | E1: TIPO DE CONTRATO (MINUTA) | F1: MODALIDAD DE SELECCIÓN | G1: NO. DE PROCESO | H1: CODIGO UNSPSC | I1: LINK DE PUBLICACIÓN | J1: OBJETO | K1: NOMBRE O RAZON SOCIAL (CONTRATISTA)
A2: UAESP-16-2025 | B2: 45699 | C2: Camilo | D2: 31 31-Servicios Profesionales | E2: PRESTACION DE SERVICIOS PROFESIONALES | F2: 5 5. Contratación directa | G2: N/A | H2: 80161500 | I2: https://community.secop.gov.co/Public/Tendering/OpportunityDetail/Index?noticeUID=CO1.NTC.7609963&isFromPublicArea=True&isModal=true&asPopupView=true | J2: AP-004 Prestar servicios profesionales a la Subdirección de Servicios Funerarios y Alumbrado Público en asuntos ambientales y sanitarios, relacionados con la prestación del servicio de Alumbrado Público y hornos crematorios en los cementerios de propiedad del Distrito | K2: Ever Adrian Hernandez
A3: UAESP-40-2025 | B3: 45707 | C3: Andrea Torres | D3: 31 31-Servicios Profesionales | E3: PRESTACION DE SERVICIOS PROFESIONALES | F3: 5 5. Contratación directa | G3: N/A | H3: 80161500 | I3: https://community.secop.gov.co/Public/Tendering/OpportunityDetail/Index?noticeUID=CO1.NTC.7677097&isFromPublicArea=True&isModal=true&asPopupView=true | J3: SSF-027 Prestar servicios profesionales como apoyo transversal a la subdirección en la coordinación en los asuntos que le sean requeridos para el apoyo a la supervisión de los servicios
A4: UAESP-153-2025 | B4: 45736 | C4: Camilo | D4: 49 49-Otros Servicios | E4: PRESTACION DE SERVICIOS | F4: 2 2. Selección abreviada | G4: No salio con este numero | H4: No salio con este numero | I4: No salio con este numero | J4: No salio con este numero | K4: No salio con este numero
A5: UAESP-169-2025 | B5: 45744 | C5: Johanna | D5: 31 31-Servicios Profesionales | E5: PRESTACION DE SERVICIOS PROFESIONALES | F5: 5 5. Contratación directa | G5: N/A | H5: 80161500 | I5: https://community.secop.gov.co/Public/Tendering/OpportunityDetail/Index?noticeUID=CO1.NTC.7913135&isFromPublicArea=True&isModal=true&asPopupView=true | J5: RBL-039 Prestar servicios profesionales a la Unidad Administrativa Especial de Servicios Públicos - UAESP para desarrollar acciones en territorio con entidades distritales y comunidad, que permitan mejoras significativas en la atención de requerimientos, gestionar las actividades relacionadas con los servicios y operativos locales que garanticen satisfacción del usuario con relación a las responsabilidades a cargo de la Entidad | K5: JOSE MANUEL LLAIN TORRADO
A6: UAESP-170-2025 | B6: No se Ejecuto | C6: No se Ejecuto | D6: 31 31-Servicios Profesionales | E6: PRESTACION DE SERVICIOS PROFESIONALES | F6: 5 5. Contratación directa | G6: No se Ejecuto | H6: No se Ejecuto | I6: No se Ejecuto | J6: No se Ejecuto | K6: No se Ejecuto
A7: UAESP-175-2025 | B7: No se Ejecuto | C7: No se Ejecuto | D7: No se Ejecuto | E7: No se Ejecuto | F7: No se Ejecuto | G7: No se Ejecuto | H7: No se Ejecuto | I7: No se Ejecuto | J7: No se Ejecuto | K7: No se Ejecuto
A8: UAESP-219-2025 | B8: No se Ejecuto | C8: No se Ejecuto | D8: No se Ejecuto | E8: No se Ejecuto | F8: No se Ejecuto | G8: No se Ejecuto | H8: No se Ejecuto | I8: No se Ejecuto | J8: No se Ejecuto | K8: No se Ejecuto
A9: UAESP-239-2025 | B9: No se Ejecuto | C9: No se Ejecuto | D9: No se Ejecuto | E9: No se Ejecuto | F9: No se Ejecuto | G9: No se Ejecuto | H9: No se Ejecuto | I9: No se Ejecuto | J9: No se Ejecuto | K9: No se Ejecuto
A10: UAESP-265-2025 | B10: No se Ejecuto | C10: No se Ejecuto | D10: No se Ejecuto | E10: No se Ejecuto | F10: No se Ejecuto | G10: No se Ejecuto | H10: No se Ejecuto | I10: No se Ejecuto | J10: No se Ejecuto | K10: No se Ejecuto
A11: UAESP-318-2025 | B11: Desistido | C11: Desistido | D11: Desistido | E11: Desistido | F11: Desistido | G11: Desistido | H11: Desistido | I11: Desistido | J11: Desistido | K11: Desistido
A12: UAESP-360-2025 | B12: Rechazada | C12: Rechazada | D12: Rechazada | E12: Rechazada | F12: Rechazada | G12: Rechazada | H12: Rechazada | I12: Rechazada | J12: Rechazada | K12: Rechazada
A13: UAESP-400-2025 | B13: Rechazada | C13: Rechazada | D13: Rechazada | E13: Rechazada | F13: Rechazada | G13: Rechazada | H13: Rechazada | I13: Rechazada | J13: Rechazada | K13: Rechazada

Sheet SUSPENSIONES
A1: NO CONTRATO | B1: CONTRATISTA | C1: SUSPENSION | E1: PLAZO | F1: REINICIO
A2: =PROCESOS.!#REF! -> #REF! | B2: =PROCESOS.!#REF! -> #REF!
A3: =PROCESOS.!B3 -> 0 | B3: =PROCESOS.!L3 -> 0
A4: =PROCESOS.!B4 -> 0 | B4: =PROCESOS.!L4 -> 0
A5: =PROCESOS.!B5 -> 0 | B5: =PROCESOS.!L5 -> 0
A6: =PROCESOS.!#REF! -> #REF! | B6: =PROCESOS.!#REF! -> #REF!
A7: =PROCESOS.!#REF! -> #REF! | B7: =PROCESOS.!#REF! -> #REF!
A8: =PROCESOS.!B6 -> 0 | B8: =PROCESOS.!L6 -> 0
A9: =PROCESOS.!B7 -> 0 | B9: =PROCESOS.!L7 -> 0
A10: =PROCESOS.!B8 -> 0 | B10: =PROCESOS.!L8 -> 0
A11: =PROCESOS.!B9 -> 0 | B11: =PROCESOS.!L9 -> 0
A12: =PROCESOS.!B10 -> 0 | B12: =PROCESOS.!L10 -> 0
A13: =PROCESOS.!B11 -> 0 | B13: =PROCESOS.!L11 -> 0
A14: =#REF! -> #REF! | B14: =#REF! -> #REF!
A15: =PROCESOS.!B12 -> 0 | B15: =PROCESOS.!L12 -> 0
A16: =PROCESOS.!B13 -> 0 | B16: =PROCESOS.!L13 -> 0
A17: =PROCESOS.!B14 -> 0 | B17: =PROCESOS.!L14 -> 0
A18: =PROCESOS.!B15 -> 0 | B18: =PROCESOS.!L15 -> 0
A19: =PROCESOS.!B16 -> 0 | B19: =PROCESOS.!L16 -> 0
A20: =PROCESOS.!B17 -> 0 | B20: =PROCESOS.!L17 -> 0
A21: =PROCESOS.!B18 -> 0 | B21: =PROCESOS.!L18 -> 0
A22: =PROCESOS.!B19 -> 0 | B22: =PROCESOS.!L19 -> 0
A23: =PROCESOS.!B20 -> 0 | B23: =PROCESOS.!L20 -> 0
A24: =PROCESOS.!B21 -> 0 | B24: =PROCESOS.!L21 -> 0
A25: =PROCESOS.!B22 -> 0 | B25: =PROCESOS.!L22 -> 0
A26: =PROCESOS.!B23 -> 0 | B26: =PROCESOS.!L23 -> 0
... A81: =PROCESOS.!B78 -> 0 | B81: =PROCESOS.!L78 -> 0
A82: =#REF! -> #REF! | B82: =#REF! -> #REF!
A83: =PROCESOS.!B79 -> 0 | B83: =PROCESOS.!L79 -> 0
A84: =PROCESOS.!B80 -> 0 | B84: =PROCESOS.!L80 -> 0
A85: =PROCESOS.!B81 -> 0 | B85: =PROCESOS.!L81 -> 0
A86: =PROCESOS.!B82 -> 0 | B86: =PROCESOS.!L82 -> 0
A87: =PROCESOS.!B83 -> 0 | B87: =PROCESOS.!L83 -> 0
A88: =PROCESOS.!B84 -> 0 | B88: =PROCESOS.!L84 -> 0
A89: =PROCESOS.!B85 -> 0 | B89: =PROCESOS.!L85 -> 0
A90: =PROCESOS.!B86 -> 0 | B90: =PROCESOS.!L86 -> 0
A91: =PROCESOS.!B87 -> 0 | B91: =PROCESOS.!L87 -> 0
A92: =PROCESOS.!B88 -> 0 | B92: =PROCESOS.!L88 -> 0
A93: =PROCESOS.!B89 -> 0 | B93: =PROCESOS.!L89 -> 0
A94: =PROCESOS.!B90 -> 0 | B94: =PROCESOS.!L90 -> 0
...

Sheet Ordenes de Compra
A1: Orden de Compra | B1: Entidad Estatal | C1: Fecha de la orden | D1: Estado | E1: Instrumento | F1: Total | G1: CONTRATISTA | H1: OBJETO | I1: FECHA VENCIMIENTO | J1: DEPENDENCIA
A2: 143438 | B2: UNIDAD ADMINISTRATIVA ESPECIAL DE SERVICIOS PUBLICOS | C2: 45733.756 | D2: Emitido | E2: Aseo y Cafetería IV | F2: $524,619,509 | G2: CONSORCIO KIOS | H2: SAF-001 Adquirir por medio del Acuerdo Marco de Precios CCE-126-2023 el servicio de aseo e insumos de aseo, jardinería y cafetería para todos los bienes muebles que se encuentran en propiedad y en figura de arrendamiento a nombre de la Unidad Administrativa Especial de Servicios Públicos | I2: 12/30/2025 | J2: Subdireccion Administrativa y Financiera
A3: 148224 | B3: UNIDAD ADMINISTRATIVA ESPECIAL DE SERVICIOS PUBLICOS | C3: 45835.374 | D3: Emitido | E3: IAD Software por Catalogo II | F3: $50,014,866 | G3: UT Catalogo de Software ArcGIS de Esri | H3: TIC-023 Adquisición del licenciamiento ArcGis de georreferenciación para el servicio de las áreas misionales de la Unidad Administrativa Especial de Servicios Públicos. | I3: 46198 | J3: Oficina de Tecnologias de la Informacion y las Comunicaciones
A4: 148582 | B4: UNIDAD ADMINISTRATIVA ESPECIAL DE SERVICIOS PUBLICOS | C4: 45845.379 | D4: Emitido | E4: IAD Software por Catalogo II | F4: $561,809,100 | G4: Consorcio IAD Dinamico Softwareone | H4: TIC-016 Renovar la suscripción de licencias de servicios de ofimática suit con cuentas correos, colaborativas y BI para el desarrollo de las actividades de la Unidad Administrativa Especial de Servicios Públicos - UAESP, a través la Tienda Virtual del Estado Colombiano. | I4: 46213 | J4: Oficina de Tecnologias de la Informacion y las Comunicaciones
A5: 148732 | B5: UNIDAD ADMINISTRATIVA ESPECIAL DE SERVICIOS PUBLICOS | C5: 45847.437 | D5: Emitido | E5: ETP III | F5: $8,582,896 | G5: SOLUTION COPY LTDA | H5: TIC-014 Contratar el servicio de equipos periféricos tipo escáner para la Unidad Administrativa Especial de Servicios Públicos- UAESP a través la Tienda Virtual del Estado Colombiano Acuerdo Marco. | I5: 46216 | J5: Oficina de Tecnologias de la Informacion y las Comunicaciones
A6: 150094 | B6: UNIDAD ADMINISTRATIVA ESPECIAL DE SERVICIOS PUBLICOS | C6: 45881.459 | D6: Emitido | E6: Grandes Superficies | F6: $8,037,890 | G6: Falabella de Colombia S.A. | H6: SAF-084 Adquirir a través de la TVEC - Grandes Superficies, el mobiliario y equipo de oficina requerido en las instalaciones de la nueva sede de la UAESP. | I6: 45941 | J6: Subdireccion Administrativa y Financiera
A7: 150095 | B7: UNIDAD ADMINISTRATIVA ESPECIAL DE SERVICIOS PUBLICOS | C7: 45881.459 | D7: Emitido | E7: Grandes Superficies | F7: $37,830,100 | G7: Panamericana Outsourcing S.A. | H7: SAF-084 Adquirir a través de la TVEC - Grandes Superficies, el mobiliario y equipo de oficina requerido en las instalaciones de la nueva sede de la UAESP. | I7: 45941 | J7: Subdireccion Administrativa y Financiera
A8: 150096 | B8: UNIDAD ADMINISTRATIVA ESPECIAL DE SERVICIOS PUBLICOS | C8: 45881.459 | D8: Emitido | E8: Grandes Superficies | F8: $1,028,755 | G8: FERRICENTROS SAS | H8: SAF-084 Adquirir a través de la TVEC - Grandes Superficies, el mobiliario y equipo de oficina requerido en las instalaciones de la nueva sede de la UAESP. | I8: 45941 | J8: Subdireccion Administrativa y Financiera
A9: 150097 | B9: UNIDAD ADMINISTRATIVA ESPECIAL DE SERVICIOS PUBLICOS | C9: 45881.459 | D9: Emitido | E9: Grandes Superficies | F9: $2,288,888 | G9: PROVEER INSTITUCIONAL SAS | H9: SAF-084 Adquirir a través de la TVEC - Grandes Superficies, el mobiliario y equipo de oficina requerido en las instalaciones de la nueva sede de la UAESP. | I9: 45941 | J9: Subdireccion Administrativa y Financiera
A10: 150098 | B10: UNIDAD ADMINISTRATIVA ESPECIAL DE SERVICIOS PUBLICOS | C10: 45881.459 | D10: Emitido | E10: Grandes Superficies | F10: $4,656,000 | G10: CENCOSUD COLOMBIA S.A. | H10: SAF-084 Adquirir a través de la TVEC - Grandes Superficies, el mobiliario y equipo de oficina requerido en las instalaciones de la nueva sede de la UAESP. | I10: 45941 | J10: Subdireccion Administrativa y Financiera
A11: 151184 | B11: UNIDAD ADMINISTRATIVA ESPECIAL DE SERVICIOS PUBLICOS | C11: 45903.52 | D11: Emitido | E11: Combustible (Nacional) III | F11: $56,770,630 | G11: Distracom S.A. | H11: SAF-069 Contratar el suministro de gasolina para los vehículos de la entidad y garantizar la prestación de los servicios de recorridos misionales de la UAESP. | I11: 46056 | J11: Subdireccion Administrativa y Financiera

Sheet Resumen (Tablas Dinámicas)
C7: TABLA DINÁMICA (CONSULTA x CONTRATISTA)
C9: NOMBRE O RAZON SOCIAL (CONTRATISTA) | D9: ANA MARIA MANCIPE MONTENEGRO
C11: DURACIÓN DEL CONTRATO EN MESES | D11: VALOR CONTRATO | E11: CANTIDAD DE CONTRATOS
C12: 4 | D12: 40000000 | E12: 1
C13: Total Meses: 4 | E13: 1
C14: 6 | D14: 60000000 | E14: 1
C15: Total Meses: 6 | E15: 1
C16: Total de Contratos | E16: 2
C24: TABLA DINÁMICA (CONSULTA x DEPENDENCIAS)
C26: NOMBRE DE LA DEPENDENCIA | D26: Subdireccion de Disposicion Final
C28: NOMBRE O RAZON SOCIAL (CONTRATISTA) | D28: ESTADO DEL CONTRATO | E28: CANTIDAD DE CONTRATOS | F28: VALOR DEL CONTRATO
C29: JENNIFER VNEGAS PEÑA | D29: Vigente | E29: 1 | F29: 72000000
C30: JENNIFER VNEGAS PEÑA Total | E30: 1 | F30: 72000000
C31: ANDRES GERARDO CASTAÑEDA CAMARGO | D31: Vigente | E31: 1 | F31: 96000000
C32: ANDRES GERARDO CASTAÑEDA CAMARGO Total | E32: 1 | F32: 96000000
C33: ANGELA MARIA LEIVA TENJO | D33: Vigente | E33: 1 | F33: 34164000
C34: ANGELA MARIA LEIVA TENJO Total | E34: 1 | F34: 34164000
C35: Armando Rodríguez Ochoa | D35: Vigente | E35: 1 | F35: 76000000
C36: Armando Rodríguez Ochoa Total | E36: 1 | F36: 76000000
C37: AURA CRISTINA GARCÍA OTÁLORA | D37: Vigente | E37: 1 | F37: 60000000
C38: AURA CRISTINA GARCÍA OTÁLORA Total | E38: 1 | F38: 60000000
C39: CARLOS ANDRES ACERO | D39: Vigente | E39: 1 | F39: 76000000
C40: CARLOS ANDRES ACERO Total | E40: 1 | F40: 76000000
C41: CARLOS GEOVANNY BORDA PEREZ | D41: Vigente | E41: 1 | F41: 96000000
C42: CARLOS GEOVANNY BORDA PEREZ Total | E42: 1 | F42: 96000000
C43: CHRISTIAM MODESTO DIAZ GONZALEZ | D43: Vigente | E43: 1 | F43: 76000000
C44: CHRISTIAM MODESTO DIAZ GONZALEZ Total | E44: 1 | F44: 76000000
C45: CRISTIAN PINEDA | D45: Vigente | E45: 1 | F45: 76000000
C46: CRISTIAN PINEDA Total | E46: 1 | F46: 76000000
C47: DEIBY ALEJANDRO BERNAL PERILLA | D47: Vigente | E47: 1 | F47: 76000000
C48: DEIBY ALEJANDRO BERNAL PERILLA Total | E48: 1 | F48: 76000000
C49: FELIX ALBERTO PINZON MONTOYA | D49: Vigente | E49: 1 | F49: 36000000
C50: FELIX ALBERTO PINZON MONTOYA Total | E50: 1 | F50: 36000000
C51: GRUPO YACAR INGENIERIA S.A. | D51: Vigente | E51: 1 | F51: 206793200
C52: GRUPO YACAR INGENIERIA S.A. Total | E52: 1 | F52: 206793200
C53: HARVY ZURITH BARRIOS LOPEZ | D53: Vigente | E53: 1 | F53: 54400000
C54: HARVY ZURITH BARRIOS LOPEZ Total | E54: 1 | F54: 54400000
C55: JAVIER ANDRES MOLANO AVELLA | D55: Vigente | E55: 1 | F55: 49000000
C56: JAVIER ANDRES MOLANO AVELLA Total | E56: 1 | F56: 49000000
C57: JOSE MANUEL LLAIN TORRADO | D57: Vigente | E57: 1 | F57: 62500000
...
